BEGIN:VCALENDAR
VERSION:2.0
PRODID:-//Angus Australia - ECPv6.15.17//NONSGML v1.0//EN
CALSCALE:GREGORIAN
METHOD:PUBLISH
X-WR-CALNAME:Angus Australia
X-ORIGINAL-URL:https://www.angusaustralia.com.au
X-WR-CALDESC:Events for Angus Australia
REFRESH-INTERVAL;VALUE=DURATION:PT1H
X-Robots-Tag:noindex
X-PUBLISHED-TTL:PT1H
BEGIN:VTIMEZONE
TZID:Australia/Melbourne
BEGIN:STANDARD
TZOFFSETFROM:+1100
TZOFFSETTO:+1000
TZNAME:AEST
DTSTART:20200404T160000
END:STANDARD
BEGIN:DAYLIGHT
TZOFFSETFROM:+1000
TZOFFSETTO:+1100
TZNAME:AEDT
DTSTART:20201003T160000
END:DAYLIGHT
BEGIN:STANDARD
TZOFFSETFROM:+1100
TZOFFSETTO:+1000
TZNAME:AEST
DTSTART:20210403T160000
END:STANDARD
BEGIN:DAYLIGHT
TZOFFSETFROM:+1000
TZOFFSETTO:+1100
TZNAME:AEDT
DTSTART:20211002T160000
END:DAYLIGHT
BEGIN:STANDARD
TZOFFSETFROM:+1100
TZOFFSETTO:+1000
TZNAME:AEST
DTSTART:20220402T160000
END:STANDARD
BEGIN:DAYLIGHT
TZOFFSETFROM:+1000
TZOFFSETTO:+1100
TZNAME:AEDT
DTSTART:20221001T160000
END:DAYLIGHT
END:VTIMEZONE
BEGIN:VTIMEZONE
TZID:Australia/Perth
BEGIN:STANDARD
TZOFFSETFROM:+0800
TZOFFSETTO:+0800
TZNAME:AWST
DTSTART:20200101T000000
END:STANDARD
END:VTIMEZONE
BEGIN:VEVENT
DTSTART;TZID=Australia/Melbourne:20210224T110000
DTEND;TZID=Australia/Melbourne:20210224T110000
DTSTAMP:20260424T125400
CREATED:20210107T054119Z
LAST-MODIFIED:20210107T054119Z
UID:5407-1614164400-1614164400@www.angusaustralia.com.au
SUMMARY:Pathfinder Angus VIC Sale
DESCRIPTION:121 bulls on offer \n     
URL:https://www.angusaustralia.com.au/event/pathfinder-angus-vic-sale
LOCATION:Pathfinder\, 2126 Macarthur-Penshurst Road\, Gazette\, VIC\, 3289\, Australia
ORGANIZER;CN="Nick & Sara Moyle":MAILTO:moyles@skymesh.com.au
END:VEVENT
BEGIN:VEVENT
DTSTART;TZID=Australia/Perth:20210224T130000
DTEND;TZID=Australia/Perth:20210224T130000
DTSTAMP:20260424T125400
CREATED:20210107T054454Z
LAST-MODIFIED:20210107T054454Z
UID:5410-1614171600-1614171600@www.angusaustralia.com.au
SUMMARY:Black Market Angus Bull Sale
DESCRIPTION:36 bulls on offer
URL:https://www.angusaustralia.com.au/event/black-market-angus-bull-sale
ORGANIZER;CN="Paul Torrisi":MAILTO:blackmarketangus@bigpond.com
END:VEVENT
END:VCALENDAR