BEGIN:VCALENDAR
VERSION:2.0
PRODID:-//Angus Australia - ECPv6.15.17//NONSGML v1.0//EN
CALSCALE:GREGORIAN
METHOD:PUBLISH
X-WR-CALNAME:Angus Australia
X-ORIGINAL-URL:https://www.angusaustralia.com.au
X-WR-CALDESC:Events for Angus Australia
REFRESH-INTERVAL;VALUE=DURATION:PT1H
X-Robots-Tag:noindex
X-PUBLISHED-TTL:PT1H
BEGIN:VTIMEZONE
TZID:Australia/Perth
BEGIN:STANDARD
TZOFFSETFROM:+0800
TZOFFSETTO:+0800
TZNAME:AWST
DTSTART:20200101T000000
END:STANDARD
END:VTIMEZONE
BEGIN:VTIMEZONE
TZID:Australia/Melbourne
BEGIN:STANDARD
TZOFFSETFROM:+1100
TZOFFSETTO:+1000
TZNAME:AEST
DTSTART:20200404T160000
END:STANDARD
BEGIN:DAYLIGHT
TZOFFSETFROM:+1000
TZOFFSETTO:+1100
TZNAME:AEDT
DTSTART:20201003T160000
END:DAYLIGHT
BEGIN:STANDARD
TZOFFSETFROM:+1100
TZOFFSETTO:+1000
TZNAME:AEST
DTSTART:20210403T160000
END:STANDARD
BEGIN:DAYLIGHT
TZOFFSETFROM:+1000
TZOFFSETTO:+1100
TZNAME:AEDT
DTSTART:20211002T160000
END:DAYLIGHT
BEGIN:STANDARD
TZOFFSETFROM:+1100
TZOFFSETTO:+1000
TZNAME:AEST
DTSTART:20220402T160000
END:STANDARD
BEGIN:DAYLIGHT
TZOFFSETFROM:+1000
TZOFFSETTO:+1100
TZNAME:AEDT
DTSTART:20221001T160000
END:DAYLIGHT
END:VTIMEZONE
BEGIN:VEVENT
DTSTART;TZID=Australia/Perth:20210226T130000
DTEND;TZID=Australia/Perth:20210226T130000
DTSTAMP:20260422T105626
CREATED:20210107T055427Z
LAST-MODIFIED:20210107T055427Z
UID:5413-1614344400-1614344400@www.angusaustralia.com.au
SUMMARY:Venturon Livestock Inaugural Bull Sale
DESCRIPTION:10 Sire Assured bulls on offer \n \n     
URL:https://www.angusaustralia.com.au/event/venturon-livestock-inaugural-bull-sale
LOCATION:Venturon\, 52 Sambell Road\, Boyup Brook\, WA\, 6244\, Australia
ORGANIZER;CN="Harris Thompson":MAILTO:info@venturon.com.au
END:VEVENT
BEGIN:VEVENT
DTSTART;TZID=Australia/Melbourne:20210226T130000
DTEND;TZID=Australia/Melbourne:20210226T130000
DTSTAMP:20260422T105626
CREATED:20210107T060010Z
LAST-MODIFIED:20210107T060010Z
UID:5420-1614344400-1614344400@www.angusaustralia.com.au
SUMMARY:Adameluca Angus Bull Sale
DESCRIPTION:42 Sire Assured bulls on offer
URL:https://www.angusaustralia.com.au/event/adameluca-angus-bull-sale
LOCATION:Glendan Park\, 2090 Kyneton Heathcote Road\, Barfold\, VIC\, 3444\, Australia
ORGANIZER;CN="Sam Trovatello":MAILTO:sam@adameluca.com.au
END:VEVENT
END:VCALENDAR