BEGIN:VCALENDAR
VERSION:2.0
PRODID:-//Angus Australia - ECPv6.15.17//NONSGML v1.0//EN
CALSCALE:GREGORIAN
METHOD:PUBLISH
X-WR-CALNAME:Angus Australia
X-ORIGINAL-URL:https://www.angusaustralia.com.au
X-WR-CALDESC:Events for Angus Australia
REFRESH-INTERVAL;VALUE=DURATION:PT1H
X-Robots-Tag:noindex
X-PUBLISHED-TTL:PT1H
BEGIN:VTIMEZONE
TZID:Australia/Sydney
BEGIN:STANDARD
TZOFFSETFROM:+1100
TZOFFSETTO:+1000
TZNAME:AEST
DTSTART:20200404T160000
END:STANDARD
BEGIN:DAYLIGHT
TZOFFSETFROM:+1000
TZOFFSETTO:+1100
TZNAME:AEDT
DTSTART:20201003T160000
END:DAYLIGHT
BEGIN:STANDARD
TZOFFSETFROM:+1100
TZOFFSETTO:+1000
TZNAME:AEST
DTSTART:20210403T160000
END:STANDARD
BEGIN:DAYLIGHT
TZOFFSETFROM:+1000
TZOFFSETTO:+1100
TZNAME:AEDT
DTSTART:20211002T160000
END:DAYLIGHT
BEGIN:STANDARD
TZOFFSETFROM:+1100
TZOFFSETTO:+1000
TZNAME:AEST
DTSTART:20220402T160000
END:STANDARD
BEGIN:DAYLIGHT
TZOFFSETFROM:+1000
TZOFFSETTO:+1100
TZNAME:AEDT
DTSTART:20221001T160000
END:DAYLIGHT
END:VTIMEZONE
BEGIN:VTIMEZONE
TZID:Australia/Perth
BEGIN:STANDARD
TZOFFSETFROM:+0800
TZOFFSETTO:+0800
TZNAME:AWST
DTSTART:20200101T000000
END:STANDARD
END:VTIMEZONE
BEGIN:VEVENT
DTSTART;VALUE=DATE:20210304
DTEND;VALUE=DATE:20210305
DTSTAMP:20260423T164825
CREATED:20201103T223024Z
LAST-MODIFIED:20201103T223024Z
UID:3893-1614816000-1614902399@www.angusaustralia.com.au
SUMMARY:Murdeduke Angus On Property Bull Sale
DESCRIPTION: 
URL:https://www.angusaustralia.com.au/event/murdeduke-angus-on-property-bull-sale
LOCATION:Murdeduke\, 730 Cressy Rd\, Winchelsea\, VIC\, 3241\, Australia
ORGANIZER;CN="Simon Falkiner":MAILTO:falkiner.ag@bigpond.com
END:VEVENT
BEGIN:VEVENT
DTSTART;TZID=Australia/Perth:20210304T130000
DTEND;TZID=Australia/Perth:20210304T130000
DTSTAMP:20260423T164825
CREATED:20201127T002425Z
LAST-MODIFIED:20201127T002425Z
UID:4734-1614862800-1614862800@www.angusaustralia.com.au
SUMMARY:Gingin Bull Sale – Kapari\, Black Tara\, Cookalabi\, Warringah and Red Hat Angus
DESCRIPTION:
URL:https://www.angusaustralia.com.au/event/gingin-bull-sale-kapari-black-tara-cookalabi-warringah-and-red-hat-angus
LOCATION:Gingin Recreation Centre\, 1a Lily King Place\, Gingin\, WA\, 6503\, Australia
ORGANIZER;CN="Tony Sudlow":MAILTO:tony.liz@kapariangus.com.au
END:VEVENT
END:VCALENDAR