BEGIN:VCALENDAR
VERSION:2.0
PRODID:-//Angus Australia - ECPv6.15.17//NONSGML v1.0//EN
CALSCALE:GREGORIAN
METHOD:PUBLISH
X-ORIGINAL-URL:https://www.angusaustralia.com.au
X-WR-CALDESC:Events for Angus Australia
REFRESH-INTERVAL;VALUE=DURATION:PT1H
X-Robots-Tag:noindex
X-PUBLISHED-TTL:PT1H
BEGIN:VTIMEZONE
TZID:Australia/Perth
BEGIN:STANDARD
TZOFFSETFROM:+0800
TZOFFSETTO:+0800
TZNAME:AWST
DTSTART:20200101T000000
END:STANDARD
END:VTIMEZONE
BEGIN:VTIMEZONE
TZID:Australia/Sydney
BEGIN:STANDARD
TZOFFSETFROM:+1100
TZOFFSETTO:+1000
TZNAME:AEST
DTSTART:20200404T160000
END:STANDARD
BEGIN:DAYLIGHT
TZOFFSETFROM:+1000
TZOFFSETTO:+1100
TZNAME:AEDT
DTSTART:20201003T160000
END:DAYLIGHT
BEGIN:STANDARD
TZOFFSETFROM:+1100
TZOFFSETTO:+1000
TZNAME:AEST
DTSTART:20210403T160000
END:STANDARD
BEGIN:DAYLIGHT
TZOFFSETFROM:+1000
TZOFFSETTO:+1100
TZNAME:AEDT
DTSTART:20211002T160000
END:DAYLIGHT
BEGIN:STANDARD
TZOFFSETFROM:+1100
TZOFFSETTO:+1000
TZNAME:AEST
DTSTART:20220402T160000
END:STANDARD
BEGIN:DAYLIGHT
TZOFFSETFROM:+1000
TZOFFSETTO:+1100
TZNAME:AEDT
DTSTART:20221001T160000
END:DAYLIGHT
END:VTIMEZONE
BEGIN:VEVENT
DTSTART;TZID=Australia/Perth:20210310T103000
DTEND;TZID=Australia/Perth:20210310T103000
DTSTAMP:20260424T193302
CREATED:20210120T012146Z
LAST-MODIFIED:20210120T012146Z
UID:5514-1615372200-1615372200@www.angusaustralia.com.au
SUMMARY:Sheron Farm Bull Sale
DESCRIPTION:26 Sire Assured bulls on offer
URL:https://www.angusaustralia.com.au/event/sheron-farm-bull-sale
LOCATION:Sheron Farm\, 12025 Southwest Highway\, Benger\, WA\, 6960\, Australia
ORGANIZER;CN="Steve Elliot":MAILTO:sheronfarm12025@gmail.com
END:VEVENT
BEGIN:VEVENT
DTSTART;TZID=Australia/Sydney:20210310T110000
DTEND;TZID=Australia/Sydney:20210310T110000
DTSTAMP:20260424T193302
CREATED:20201127T002917Z
LAST-MODIFIED:20201127T002917Z
UID:4740-1615374000-1615374000@www.angusaustralia.com.au
SUMMARY:Dulverton Angus Female Production Sale
DESCRIPTION:   
URL:https://www.angusaustralia.com.au/event/dulverton-angus-female-production-sale
LOCATION:Shannon Vale Station\, 1241 Shannon Vale Rd\, Glen Innes\, NSW\, 2370\, Australia
ORGANIZER;CN="Greg & Sally Chappell":MAILTO:dulverton1@bigpond.com
END:VEVENT
BEGIN:VEVENT
DTSTART;TZID=Australia/Sydney:20210310T130000
DTEND;TZID=Australia/Sydney:20210310T130000
DTSTAMP:20260424T193302
CREATED:20201018T223855Z
LAST-MODIFIED:20201026T011607Z
UID:3094-1615381200-1615381200@www.angusaustralia.com.au
SUMMARY:Alpine Angus 2021 Autumn Bull Sale
DESCRIPTION:
URL:https://www.angusaustralia.com.au/event/alpine-angus-2021-autumn-bull-sale
LOCATION:Alpine Angus Sale Complex\, Rosewhite\, VIC\, 3737\, Australia
ORGANIZER;CN="Chris Oswin":MAILTO:chris@alpineangus.com.au
END:VEVENT
END:VCALENDAR