BEGIN:VCALENDAR
VERSION:2.0
PRODID:-//Angus Australia - ECPv6.15.17//NONSGML v1.0//EN
CALSCALE:GREGORIAN
METHOD:PUBLISH
X-WR-CALNAME:Angus Australia
X-ORIGINAL-URL:https://www.angusaustralia.com.au
X-WR-CALDESC:Events for Angus Australia
REFRESH-INTERVAL;VALUE=DURATION:PT1H
X-Robots-Tag:noindex
X-PUBLISHED-TTL:PT1H
BEGIN:VTIMEZONE
TZID:Australia/Sydney
BEGIN:STANDARD
TZOFFSETFROM:+1100
TZOFFSETTO:+1000
TZNAME:AEST
DTSTART:20200404T160000
END:STANDARD
BEGIN:DAYLIGHT
TZOFFSETFROM:+1000
TZOFFSETTO:+1100
TZNAME:AEDT
DTSTART:20201003T160000
END:DAYLIGHT
BEGIN:STANDARD
TZOFFSETFROM:+1100
TZOFFSETTO:+1000
TZNAME:AEST
DTSTART:20210403T160000
END:STANDARD
BEGIN:DAYLIGHT
TZOFFSETFROM:+1000
TZOFFSETTO:+1100
TZNAME:AEDT
DTSTART:20211002T160000
END:DAYLIGHT
BEGIN:STANDARD
TZOFFSETFROM:+1100
TZOFFSETTO:+1000
TZNAME:AEST
DTSTART:20220402T160000
END:STANDARD
BEGIN:DAYLIGHT
TZOFFSETFROM:+1000
TZOFFSETTO:+1100
TZNAME:AEDT
DTSTART:20221001T160000
END:DAYLIGHT
END:VTIMEZONE
BEGIN:VTIMEZONE
TZID:Australia/Melbourne
BEGIN:STANDARD
TZOFFSETFROM:+1100
TZOFFSETTO:+1000
TZNAME:AEST
DTSTART:20200404T160000
END:STANDARD
BEGIN:DAYLIGHT
TZOFFSETFROM:+1000
TZOFFSETTO:+1100
TZNAME:AEDT
DTSTART:20201003T160000
END:DAYLIGHT
BEGIN:STANDARD
TZOFFSETFROM:+1100
TZOFFSETTO:+1000
TZNAME:AEST
DTSTART:20210403T160000
END:STANDARD
BEGIN:DAYLIGHT
TZOFFSETFROM:+1000
TZOFFSETTO:+1100
TZNAME:AEDT
DTSTART:20211002T160000
END:DAYLIGHT
BEGIN:STANDARD
TZOFFSETFROM:+1100
TZOFFSETTO:+1000
TZNAME:AEST
DTSTART:20220402T160000
END:STANDARD
BEGIN:DAYLIGHT
TZOFFSETFROM:+1000
TZOFFSETTO:+1100
TZNAME:AEDT
DTSTART:20221001T160000
END:DAYLIGHT
END:VTIMEZONE
BEGIN:VEVENT
DTSTART;TZID=Australia/Sydney:20210316T130000
DTEND;TZID=Australia/Sydney:20210316T130000
DTSTAMP:20260425T205108
CREATED:20201018T224308Z
LAST-MODIFIED:20201018T224308Z
UID:3101-1615899600-1615899600@www.angusaustralia.com.au
SUMMARY:Fernhill Angus Annual Bull Sale
DESCRIPTION:
URL:https://www.angusaustralia.com.au/event/fernhill-angus-annual-bull-sale
LOCATION:“Warrah”\, 6770 Riverina Highway\, Hopefield\, VIC\, 2646\, Australia
ORGANIZER;CN="Rowley Bennett":MAILTO:rowleybennett@gmail.com
END:VEVENT
BEGIN:VEVENT
DTSTART;TZID=Australia/Melbourne:20210316T130000
DTEND;TZID=Australia/Melbourne:20210316T130000
DTSTAMP:20260425T205108
CREATED:20210107T035433Z
LAST-MODIFIED:20210112T221410Z
UID:5355-1615899600-1615899600@www.angusaustralia.com.au
SUMMARY:Prime Angus 2021 Autumn Bull Sale
DESCRIPTION:50 Sire Assured bulls on offer
URL:https://www.angusaustralia.com.au/event/prime-angus-autumn-2021-bull-sale
LOCATION:Prime\, 1174 Benalla Warrenbayne Road\, Warrenbayne\, VIC\, 3670\, Australia
ORGANIZER;CN="Colin Flanagan":MAILTO:pat.ebert@outlook.com
END:VEVENT
END:VCALENDAR