BEGIN:VCALENDAR
VERSION:2.0
PRODID:-//Angus Australia - ECPv6.15.17//NONSGML v1.0//EN
CALSCALE:GREGORIAN
METHOD:PUBLISH
X-WR-CALNAME:Angus Australia
X-ORIGINAL-URL:https://www.angusaustralia.com.au
X-WR-CALDESC:Events for Angus Australia
REFRESH-INTERVAL;VALUE=DURATION:PT1H
X-Robots-Tag:noindex
X-PUBLISHED-TTL:PT1H
BEGIN:VTIMEZONE
TZID:Australia/Sydney
BEGIN:STANDARD
TZOFFSETFROM:+1100
TZOFFSETTO:+1000
TZNAME:AEST
DTSTART:20200404T160000
END:STANDARD
BEGIN:DAYLIGHT
TZOFFSETFROM:+1000
TZOFFSETTO:+1100
TZNAME:AEDT
DTSTART:20201003T160000
END:DAYLIGHT
BEGIN:STANDARD
TZOFFSETFROM:+1100
TZOFFSETTO:+1000
TZNAME:AEST
DTSTART:20210403T160000
END:STANDARD
BEGIN:DAYLIGHT
TZOFFSETFROM:+1000
TZOFFSETTO:+1100
TZNAME:AEDT
DTSTART:20211002T160000
END:DAYLIGHT
BEGIN:STANDARD
TZOFFSETFROM:+1100
TZOFFSETTO:+1000
TZNAME:AEST
DTSTART:20220402T160000
END:STANDARD
BEGIN:DAYLIGHT
TZOFFSETFROM:+1000
TZOFFSETTO:+1100
TZNAME:AEDT
DTSTART:20221001T160000
END:DAYLIGHT
END:VTIMEZONE
BEGIN:VEVENT
DTSTART;TZID=Australia/Sydney:20210727T100000
DTEND;TZID=Australia/Sydney:20210727T150000
DTSTAMP:20260420T193537
CREATED:20201019T004648Z
LAST-MODIFIED:20201026T053523Z
UID:3193-1627380000-1627398000@www.angusaustralia.com.au
SUMMARY:Eastern Plains Angus Open Day
DESCRIPTION:   
URL:https://www.angusaustralia.com.au/event/eastern-plains-angus-open-day
LOCATION:Eastern Plains\, 9212 Guyra Rd\, Guyra\, NSW\, 2365\, Australia
ORGANIZER;CN="Andrew & Sally White":MAILTO:easternplains@activ8.net.au
END:VEVENT
BEGIN:VEVENT
DTSTART;TZID=Australia/Sydney:20210727T100000
DTEND;TZID=Australia/Sydney:20210727T150000
DTSTAMP:20260420T193537
CREATED:20210603T055808Z
LAST-MODIFIED:20210603T055808Z
UID:48750-1627380000-1627398000@www.angusaustralia.com.au
SUMMARY:Bridgewater Angus Open Day
DESCRIPTION:
URL:https://www.angusaustralia.com.au/event/bridgewater-angus-open-day
LOCATION:Myola\, 278 Toms Gully Rd\, Black Mountain\, NSW\, 2365\, Australia
ORGANIZER;CN="Roger & Geralyn Flower":MAILTO:geralynflower@bridgewateraust.com
END:VEVENT
BEGIN:VEVENT
DTSTART;TZID=Australia/Sydney:20210727T130000
DTEND;TZID=Australia/Sydney:20210727T130000
DTSTAMP:20260420T193537
CREATED:20210704T232329Z
LAST-MODIFIED:20210704T232329Z
UID:49341-1627390800-1627390800@www.angusaustralia.com.au
SUMMARY:Gates Performance Genetics Bull Sale
DESCRIPTION:52 bulls on offer
URL:https://www.angusaustralia.com.au/event/gates-performance-genetics-bull-sale
LOCATION:Armidale Sale Yards\, Bundarra Road\, Armidale\, New South Wales\, 2350\, Australia
ORGANIZER;CN="Rick Gates":MAILTO:rick@gatesperformancegenetics.com.au
END:VEVENT
END:VCALENDAR