BEGIN:VCALENDAR
VERSION:2.0
PRODID:-//Angus Australia - ECPv6.15.17//NONSGML v1.0//EN
CALSCALE:GREGORIAN
METHOD:PUBLISH
X-WR-CALNAME:Angus Australia
X-ORIGINAL-URL:https://www.angusaustralia.com.au
X-WR-CALDESC:Events for Angus Australia
REFRESH-INTERVAL;VALUE=DURATION:PT1H
X-Robots-Tag:noindex
X-PUBLISHED-TTL:PT1H
BEGIN:VTIMEZONE
TZID:Australia/Sydney
BEGIN:STANDARD
TZOFFSETFROM:+1100
TZOFFSETTO:+1000
TZNAME:AEST
DTSTART:20210403T160000
END:STANDARD
BEGIN:DAYLIGHT
TZOFFSETFROM:+1000
TZOFFSETTO:+1100
TZNAME:AEDT
DTSTART:20211002T160000
END:DAYLIGHT
BEGIN:STANDARD
TZOFFSETFROM:+1100
TZOFFSETTO:+1000
TZNAME:AEST
DTSTART:20220402T160000
END:STANDARD
BEGIN:DAYLIGHT
TZOFFSETFROM:+1000
TZOFFSETTO:+1100
TZNAME:AEDT
DTSTART:20221001T160000
END:DAYLIGHT
BEGIN:STANDARD
TZOFFSETFROM:+1100
TZOFFSETTO:+1000
TZNAME:AEST
DTSTART:20230401T160000
END:STANDARD
BEGIN:DAYLIGHT
TZOFFSETFROM:+1000
TZOFFSETTO:+1100
TZNAME:AEDT
DTSTART:20230930T160000
END:DAYLIGHT
END:VTIMEZONE
BEGIN:VTIMEZONE
TZID:Pacific/Auckland
BEGIN:STANDARD
TZOFFSETFROM:+1300
TZOFFSETTO:+1200
TZNAME:NZST
DTSTART:20210403T140000
END:STANDARD
BEGIN:DAYLIGHT
TZOFFSETFROM:+1200
TZOFFSETTO:+1300
TZNAME:NZDT
DTSTART:20210925T140000
END:DAYLIGHT
BEGIN:STANDARD
TZOFFSETFROM:+1300
TZOFFSETTO:+1200
TZNAME:NZST
DTSTART:20220402T140000
END:STANDARD
BEGIN:DAYLIGHT
TZOFFSETFROM:+1200
TZOFFSETTO:+1300
TZNAME:NZDT
DTSTART:20220924T140000
END:DAYLIGHT
BEGIN:STANDARD
TZOFFSETFROM:+1300
TZOFFSETTO:+1200
TZNAME:NZST
DTSTART:20230401T140000
END:STANDARD
BEGIN:DAYLIGHT
TZOFFSETFROM:+1200
TZOFFSETTO:+1300
TZNAME:NZDT
DTSTART:20230923T140000
END:DAYLIGHT
END:VTIMEZONE
BEGIN:VEVENT
DTSTART;VALUE=DATE:20220622
DTEND;VALUE=DATE:20220623
DTSTAMP:20260420T132144
CREATED:20220602T023716Z
LAST-MODIFIED:20220602T023716Z
UID:52275-1655856000-1655942399@www.angusaustralia.com.au
SUMMARY:Have Your Say Workshop - Hamilton
DESCRIPTION:A series of workshops will be hosted for Angus Australia members around Australia to give them the opportunity to meet with new CEO Scott Wright and relevant directors for their state.  \n \nThis is a great opportunity for members to provide feedback on past performance and share their aspirations and ideas of what they would like for the future of Angus Australia.  \n \nThe feedback gained at these forums will be used by the Board and CEO to craft a new five-year Strategic Plan to commence in 2023.  \n \nMembers are invited to stay for refreshments following each session\, and further conversation with directors and staff.   \nFor further information regarding the Member Engagement Workshops or to RSVP\, please contact secretary@angusaustralia.com.au.   Have Your Say Workshop – Albury.
URL:https://www.angusaustralia.com.au/event/have-your-say-workshop-hamilton
LOCATION:New South Wales
ORGANIZER;CN="Kathryn Duddy":MAILTO:kathryn.duddy@angusaustralia.com.au
END:VEVENT
BEGIN:VEVENT
DTSTART;VALUE=DATE:20220622
DTEND;VALUE=DATE:20220623
DTSTAMP:20260420T132144
CREATED:20220602T042131Z
LAST-MODIFIED:20220602T042131Z
UID:52284-1655856000-1655942399@www.angusaustralia.com.au
SUMMARY:Farrer Memorial Agricultural College High School Bull Sale
DESCRIPTION:
URL:https://www.angusaustralia.com.au/event/farrer-memorial-agricultural-college-high-school-bull-sale-2
LOCATION:Farrer Memorial Agricultural High School\, 585 Calala Lane\, Tamworth\, NSW\, 2340\, Australia
ORGANIZER;CN="Niaomi Evans":MAILTO:Niaomi.evans1@det.nsw.edu.au
END:VEVENT
BEGIN:VEVENT
DTSTART;TZID=Pacific/Auckland:20220622T100000
DTEND;TZID=Pacific/Auckland:20220622T180000
DTSTAMP:20260420T132144
CREATED:20220602T024352Z
LAST-MODIFIED:20220608T022416Z
UID:52278-1655892000-1655920800@www.angusaustralia.com.au
SUMMARY:Te Mania NZ 2yr Sale
DESCRIPTION:  \n  \n  \n  \n  \n  \n  \n  \n  \n  \n  \n  \n  \n  \n 
URL:https://www.angusaustralia.com.au/event/52278
LOCATION:Te Mania New Zealand\, 290 Conway Flat\, RD 4\, Conway Flat\, Parnassus\, 7384\, New Zealand
ORGANIZER;CN="Will Wilding":MAILTO:will@temania.co.nz
END:VEVENT
END:VCALENDAR