BEGIN:VCALENDAR
VERSION:2.0
PRODID:-//Angus Australia - ECPv6.15.17//NONSGML v1.0//EN
CALSCALE:GREGORIAN
METHOD:PUBLISH
X-ORIGINAL-URL:https://www.angusaustralia.com.au
X-WR-CALDESC:Events for Angus Australia
REFRESH-INTERVAL;VALUE=DURATION:PT1H
X-Robots-Tag:noindex
X-PUBLISHED-TTL:PT1H
BEGIN:VTIMEZONE
TZID:Australia/Sydney
BEGIN:STANDARD
TZOFFSETFROM:+1100
TZOFFSETTO:+1000
TZNAME:AEST
DTSTART:20210403T160000
END:STANDARD
BEGIN:DAYLIGHT
TZOFFSETFROM:+1000
TZOFFSETTO:+1100
TZNAME:AEDT
DTSTART:20211002T160000
END:DAYLIGHT
BEGIN:STANDARD
TZOFFSETFROM:+1100
TZOFFSETTO:+1000
TZNAME:AEST
DTSTART:20220402T160000
END:STANDARD
BEGIN:DAYLIGHT
TZOFFSETFROM:+1000
TZOFFSETTO:+1100
TZNAME:AEDT
DTSTART:20221001T160000
END:DAYLIGHT
BEGIN:STANDARD
TZOFFSETFROM:+1100
TZOFFSETTO:+1000
TZNAME:AEST
DTSTART:20230401T160000
END:STANDARD
BEGIN:DAYLIGHT
TZOFFSETFROM:+1000
TZOFFSETTO:+1100
TZNAME:AEDT
DTSTART:20230930T160000
END:DAYLIGHT
END:VTIMEZONE
BEGIN:VEVENT
DTSTART;TZID=Australia/Sydney:20220623T100000
DTEND;TZID=Australia/Sydney:20220623T160000
DTSTAMP:20260423T103228
CREATED:20220602T053259Z
LAST-MODIFIED:20220602T053259Z
UID:52288-1655978400-1656000000@www.angusaustralia.com.au
SUMMARY:Peakes – Bowen Beef Week Open Day
DESCRIPTION:
URL:https://www.angusaustralia.com.au/event/peakes-bowen-beef-week-open-day
LOCATION:Bowen\, 601 The Forest Road\, Barraba\, NSW\, 2347\, Australia
ORGANIZER;CN="Stephen & Jodi Peake":MAILTO:admin@bowenstud.com.au
END:VEVENT
BEGIN:VEVENT
DTSTART;TZID=Australia/Sydney:20220623T110000
DTEND;TZID=Australia/Sydney:20220623T170000
DTSTAMP:20260423T103228
CREATED:20220602T054036Z
LAST-MODIFIED:20220602T054036Z
UID:52291-1655982000-1656003600@www.angusaustralia.com.au
SUMMARY:Medlyn Angus Bull Sale
DESCRIPTION:
URL:https://www.angusaustralia.com.au/event/medlyn-angus-bull-sale-2
LOCATION:Casino Primex Selling Complex\, Casino Primex Selling Complex\, Rous Ln\, Bruxner Highway\, Casino\, NSW\, 2470\, Australia
ORGANIZER;CN="John Gibson":MAILTO:medlyn5@bigpond.com
END:VEVENT
END:VCALENDAR