BEGIN:VCALENDAR
VERSION:2.0
PRODID:-//Angus Australia - ECPv6.15.17//NONSGML v1.0//EN
CALSCALE:GREGORIAN
METHOD:PUBLISH
X-WR-CALNAME:Angus Australia
X-ORIGINAL-URL:https://www.angusaustralia.com.au
X-WR-CALDESC:Events for Angus Australia
REFRESH-INTERVAL;VALUE=DURATION:PT1H
X-Robots-Tag:noindex
X-PUBLISHED-TTL:PT1H
BEGIN:VTIMEZONE
TZID:Australia/Sydney
BEGIN:STANDARD
TZOFFSETFROM:+1100
TZOFFSETTO:+1000
TZNAME:AEST
DTSTART:20230401T160000
END:STANDARD
BEGIN:DAYLIGHT
TZOFFSETFROM:+1000
TZOFFSETTO:+1100
TZNAME:AEDT
DTSTART:20230930T160000
END:DAYLIGHT
BEGIN:STANDARD
TZOFFSETFROM:+1100
TZOFFSETTO:+1000
TZNAME:AEST
DTSTART:20240406T160000
END:STANDARD
BEGIN:DAYLIGHT
TZOFFSETFROM:+1000
TZOFFSETTO:+1100
TZNAME:AEDT
DTSTART:20241005T160000
END:DAYLIGHT
BEGIN:STANDARD
TZOFFSETFROM:+1100
TZOFFSETTO:+1000
TZNAME:AEST
DTSTART:20250405T160000
END:STANDARD
BEGIN:DAYLIGHT
TZOFFSETFROM:+1000
TZOFFSETTO:+1100
TZNAME:AEDT
DTSTART:20251004T160000
END:DAYLIGHT
END:VTIMEZONE
BEGIN:VEVENT
DTSTART;TZID=Australia/Sydney:20240823T093000
DTEND;TZID=Australia/Sydney:20240823T123000
DTSTAMP:20260425T003909
CREATED:20231006T040456Z
LAST-MODIFIED:20231006T040456Z
UID:66414-1724405400-1724416200@www.angusaustralia.com.au
SUMMARY:Highrent Angus Bull 2024 Inspection Day
DESCRIPTION:Contacts: \nJo Bacon Principal: 0429 773 938 \nAndy Burwell Sales: 0457 025 399 \nJo Burwell Admin: 0457 403 944
URL:https://www.angusaustralia.com.au/event/highrent-angus-bull-2024-inspection-day-2
LOCATION:Highrent\, 12524 Oxley Highway\, YARROWITCH\, NSW\, 2354\, Australia
ORGANIZER;CN="Jo Burwell":MAILTO:519brighton@gmail.com
END:VEVENT
BEGIN:VEVENT
DTSTART;TZID=Australia/Sydney:20240823T130000
DTEND;TZID=Australia/Sydney:20240823T130000
DTSTAMP:20260425T003909
CREATED:20230828T020909Z
LAST-MODIFIED:20240717T052432Z
UID:65495-1724418000-1724418000@www.angusaustralia.com.au
SUMMARY:KO Angus 28th Annual On Property Spring Sale 2024
DESCRIPTION:
URL:https://www.angusaustralia.com.au/event/ko-angus-28th-annual-on-property-spring-sale-2024
LOCATION:KO Angus\, 1790 Darbalara Rd\, Gundagai\, New South Wales\, 2722\, Australia
ORGANIZER;CN="Tim Lord":MAILTO:tim@koangus.com.au
END:VEVENT
BEGIN:VEVENT
DTSTART;TZID=Australia/Sydney:20240823T130000
DTEND;TZID=Australia/Sydney:20240823T130000
DTSTAMP:20260425T003909
CREATED:20231127T040111Z
LAST-MODIFIED:20240611T023003Z
UID:67777-1724418000-1724418000@www.angusaustralia.com.au
SUMMARY:Coolie Angus Bull Sale 2024
DESCRIPTION:To view online sale listing CLICK HERE
URL:https://www.angusaustralia.com.au/event/coolie-angus-bull-sale-2024
LOCATION:Coolie\, 2047 Willow Tree Road\, Merriwa\, NSW\, 2329\, Australia
ORGANIZER;CN="Jamie Edmonds":MAILTO:manager@coolie.com.au
END:VEVENT
BEGIN:VEVENT
DTSTART;TZID=Australia/Sydney:20240823T130000
DTEND;TZID=Australia/Sydney:20240823T130000
DTSTAMP:20260425T003909
CREATED:20240304T010945Z
LAST-MODIFIED:20240304T011015Z
UID:69543-1724418000-1724418000@www.angusaustralia.com.au
SUMMARY:Moorunga On Property Bull Sale
DESCRIPTION:
URL:https://www.angusaustralia.com.au/event/moorunga-on-property-bull-sale-2
LOCATION:Moorunga- On Property\, 80 Old Moorooduc Road\, DROMANA\, VIC\, 3936\, Australia
ORGANIZER;CN="Glenn Trout":MAILTO:moorungamanager@outlook.com
END:VEVENT
BEGIN:VEVENT
DTSTART;TZID=Australia/Sydney:20240823T130000
DTEND;TZID=Australia/Sydney:20240823T130000
DTSTAMP:20260425T003909
CREATED:20240729T231821Z
LAST-MODIFIED:20240729T231821Z
UID:72590-1724418000-1724418000@www.angusaustralia.com.au
SUMMARY:Shacorrahdalu Angus Bull Sale 2024
DESCRIPTION:
URL:https://www.angusaustralia.com.au/event/shacorrahdalu-angus-bull-sale-2024
LOCATION:Shacorrahdalu Station\, 581 Bogolara Road\, BERREMANGRA\, NSW\, 2582\, Australia
ORGANIZER;CN="Damien Thomson":MAILTO:damienthomson321@gmail.com
END:VEVENT
BEGIN:VEVENT
DTSTART;TZID=Australia/Sydney:20240823T130000
DTEND;TZID=Australia/Sydney:20240823T130000
DTSTAMP:20260425T003909
CREATED:20240811T231851Z
LAST-MODIFIED:20240811T235047Z
UID:72919-1724418000-1724418000@www.angusaustralia.com.au
SUMMARY:Redbank Angus Annual Bull Sale 2024
DESCRIPTION:
URL:https://www.angusaustralia.com.au/event/redbank-angus-annual-bull-sale-2024
LOCATION:Pine Park\, 199 Reids Flat Rd\, Cowra NSW 2794\, NSW\, 2794\, Australia
ORGANIZER;CN="Shaun Connolly":MAILTO:topnotchfencing@yahoo.com.au
END:VEVENT
BEGIN:VEVENT
DTSTART;TZID=Australia/Sydney:20240823T133000
DTEND;TZID=Australia/Sydney:20240823T133000
DTSTAMP:20260425T003909
CREATED:20231006T032032Z
LAST-MODIFIED:20240802T034023Z
UID:66406-1724419800-1724419800@www.angusaustralia.com.au
SUMMARY:Highrent Angus 2024 Bull Sale
DESCRIPTION:Contacts: \nJo Bacon Principal: 0429 773 938 \nAndy Burwell Sales: 0457 025 399 \nJo Burwell Admin: 0457 403 944 \n 
URL:https://www.angusaustralia.com.au/event/highrent-angus-2024-bull-sale
LOCATION:Highrent\, 12524 Oxley Highway\, YARROWITCH\, NSW\, 2354\, Australia
ORGANIZER;CN="Jo Burwell":MAILTO:519brighton@gmail.com
END:VEVENT
END:VCALENDAR