BEGIN:VCALENDAR
VERSION:2.0
PRODID:-//Angus Australia - ECPv6.15.17//NONSGML v1.0//EN
CALSCALE:GREGORIAN
METHOD:PUBLISH
X-WR-CALNAME:Angus Australia
X-ORIGINAL-URL:https://www.angusaustralia.com.au
X-WR-CALDESC:Events for Angus Australia
REFRESH-INTERVAL;VALUE=DURATION:PT1H
X-Robots-Tag:noindex
X-PUBLISHED-TTL:PT1H
BEGIN:VTIMEZONE
TZID:Australia/Sydney
BEGIN:STANDARD
TZOFFSETFROM:+1100
TZOFFSETTO:+1000
TZNAME:AEST
DTSTART:20230401T160000
END:STANDARD
BEGIN:DAYLIGHT
TZOFFSETFROM:+1000
TZOFFSETTO:+1100
TZNAME:AEDT
DTSTART:20230930T160000
END:DAYLIGHT
BEGIN:STANDARD
TZOFFSETFROM:+1100
TZOFFSETTO:+1000
TZNAME:AEST
DTSTART:20240406T160000
END:STANDARD
BEGIN:DAYLIGHT
TZOFFSETFROM:+1000
TZOFFSETTO:+1100
TZNAME:AEDT
DTSTART:20241005T160000
END:DAYLIGHT
BEGIN:STANDARD
TZOFFSETFROM:+1100
TZOFFSETTO:+1000
TZNAME:AEST
DTSTART:20250405T160000
END:STANDARD
BEGIN:DAYLIGHT
TZOFFSETFROM:+1000
TZOFFSETTO:+1100
TZNAME:AEDT
DTSTART:20251004T160000
END:DAYLIGHT
END:VTIMEZONE
BEGIN:VEVENT
DTSTART;TZID=Australia/Sydney:20240828T083000
DTEND;TZID=Australia/Sydney:20240828T143000
DTSTAMP:20260423T152352
CREATED:20240812T063523Z
LAST-MODIFIED:20240909T021834Z
UID:72942-1724833800-1724855400@www.angusaustralia.com.au
SUMMARY:The Rock Angus - bull vet health day being run by Zoetis & Delta Ag
DESCRIPTION:We are also hosting a bull vet health day being run by Zoetis and Delta Ag \nWhen – 8:30am – 2:30pm\, Wednesday 28th August \nWhere -The Rock Angus\, 5082 Olympic Hwy\, The Rock NSW 2655 \nCost – $25pp (includes materials\, lunch & refreshments) \nRegistration https://reproactivetherockangus.eventbrite.com.au \nContact & Information: Sarah Heffernan (0419 762 847) \n 
URL:https://www.angusaustralia.com.au/event/the-rock-angus-bull-vet-health-day-being-run-by-zoetis-delta-ag
LOCATION:The Rock Angus\, ON-PROPERTY AT ELOUERA 5082 OLYMPIC HWY THE ROCK NSW 2655
ORGANIZER;CN="Karen Masson":MAILTO:karen@therockangus.com
END:VEVENT
BEGIN:VEVENT
DTSTART;TZID=Australia/Sydney:20240828T130000
DTEND;TZID=Australia/Sydney:20240828T130000
DTSTAMP:20260423T152352
CREATED:20231211T002937Z
LAST-MODIFIED:20240514T003932Z
UID:68082-1724850000-1724850000@www.angusaustralia.com.au
SUMMARY:XLBEEF Angus Sale
DESCRIPTION:
URL:https://www.angusaustralia.com.au/event/xlbeef-angus-sale
LOCATION:XLBEEF Angus On Property Bull Sale\, 34 Back Woolomin Road\, DUNGOWAN\, NSW\, 2340\, Australia
ORGANIZER;CN="Geoff & Cass Steinbeck":MAILTO:steinab@bigpond.com
END:VEVENT
BEGIN:VEVENT
DTSTART;TZID=Australia/Sydney:20240828T130000
DTEND;TZID=Australia/Sydney:20240828T130000
DTSTAMP:20260423T152352
CREATED:20240311T031539Z
LAST-MODIFIED:20240311T031849Z
UID:69718-1724850000-1724850000@www.angusaustralia.com.au
SUMMARY:Ardrossan Angus 2024 Bull Sale
DESCRIPTION:Sale Contacts: \nRob Bulle 0407369203 \nLachie Bulle 0487957887 \nShaun Darmody 0487654308
URL:https://www.angusaustralia.com.au/event/ardrossan-angus-2024-bull-sale
LOCATION:‘Talmalmo’\, 5069 River Road\, Talmalmo\, NSW\, 2640\, Australia
ORGANIZER;CN="Shaun Darmody":MAILTO:shaun@ardrossan.au
END:VEVENT
BEGIN:VEVENT
DTSTART;TZID=Australia/Sydney:20240828T190000
DTEND;TZID=Australia/Sydney:20240828T190000
DTSTAMP:20260423T152352
CREATED:20240701T061001Z
LAST-MODIFIED:20240827T063607Z
UID:72084-1724871600-1724871600@www.angusaustralia.com.au
SUMMARY:Spring Bull Night 2024
DESCRIPTION:Tune in from 7pm AEST via the Angus Australia YouTube channel. \n  \nCLICK HERE FOR MORE INFORMATION
URL:https://www.angusaustralia.com.au/event/spring-bull-night-2024
ORGANIZER;CN="Jake Phillips":MAILTO:jake.phillips@angusaustralia.com.au
END:VEVENT
END:VCALENDAR