BEGIN:VCALENDAR
VERSION:2.0
PRODID:-//Angus Australia - ECPv6.15.17//NONSGML v1.0//EN
CALSCALE:GREGORIAN
METHOD:PUBLISH
X-ORIGINAL-URL:https://www.angusaustralia.com.au
X-WR-CALDESC:Events for Angus Australia
REFRESH-INTERVAL;VALUE=DURATION:PT1H
X-Robots-Tag:noindex
X-PUBLISHED-TTL:PT1H
BEGIN:VTIMEZONE
TZID:Australia/Sydney
BEGIN:STANDARD
TZOFFSETFROM:+1100
TZOFFSETTO:+1000
TZNAME:AEST
DTSTART:20230401T160000
END:STANDARD
BEGIN:DAYLIGHT
TZOFFSETFROM:+1000
TZOFFSETTO:+1100
TZNAME:AEDT
DTSTART:20230930T160000
END:DAYLIGHT
BEGIN:STANDARD
TZOFFSETFROM:+1100
TZOFFSETTO:+1000
TZNAME:AEST
DTSTART:20240406T160000
END:STANDARD
BEGIN:DAYLIGHT
TZOFFSETFROM:+1000
TZOFFSETTO:+1100
TZNAME:AEDT
DTSTART:20241005T160000
END:DAYLIGHT
BEGIN:STANDARD
TZOFFSETFROM:+1100
TZOFFSETTO:+1000
TZNAME:AEST
DTSTART:20250405T160000
END:STANDARD
BEGIN:DAYLIGHT
TZOFFSETFROM:+1000
TZOFFSETTO:+1100
TZNAME:AEDT
DTSTART:20251004T160000
END:DAYLIGHT
END:VTIMEZONE
BEGIN:VEVENT
DTSTART;TZID=Australia/Sydney:20240912T130000
DTEND;TZID=Australia/Sydney:20240912T130000
DTSTAMP:20260426T075919
CREATED:20230703T040058Z
LAST-MODIFIED:20240909T002530Z
UID:63670-1726146000-1726146000@www.angusaustralia.com.au
SUMMARY:Glengowan Angus 2024 Bull Sale
DESCRIPTION:  \n  \n  \n  \nTo view sale catalogue CLICK HERE
URL:https://www.angusaustralia.com.au/event/glengowan-angus-2024-bull-sale
LOCATION:Glengowan\, 782 Moorilda Road\, Moorida\, NSW\, 2799\, Australia
ORGANIZER;CN="Richard Retallack":MAILTO:glengowan.angus@bigpond.com
END:VEVENT
BEGIN:VEVENT
DTSTART;TZID=Australia/Sydney:20240912T130000
DTEND;TZID=Australia/Sydney:20240912T130000
DTSTAMP:20260426T075919
CREATED:20240107T235059Z
LAST-MODIFIED:20240613T043542Z
UID:68341-1726146000-1726146000@www.angusaustralia.com.au
SUMMARY:Riddellvue Angus Spring Sale 2024
DESCRIPTION:35 bulls 20 females
URL:https://www.angusaustralia.com.au/event/riddellvue-angus-spring-sale-2024
LOCATION:On Property- Riddellvue\, 153 Markwood Tarrawingee road\, MARKWOOD\, VIC\, 3678\, Australia
ORGANIZER;CN="Ian Bates":MAILTO:ian@riddellvue.com.au
END:VEVENT
BEGIN:VEVENT
DTSTART;TZID=Australia/Sydney:20240912T130000
DTEND;TZID=Australia/Sydney:20240912T130000
DTSTAMP:20260426T075919
CREATED:20240702T024132Z
LAST-MODIFIED:20240821T033334Z
UID:72094-1726146000-1726146000@www.angusaustralia.com.au
SUMMARY:Quarterway Angus Annual Spring Bull Sale
DESCRIPTION:
URL:https://www.angusaustralia.com.au/event/24quarterway-angus-annual-spring-bull-sale
LOCATION:Quarterway Angus\, “Lyndhurst”\, 2235 Waterhouse Rd\, Waterhouse\, Tasmania\, 7262\, Australia
END:VEVENT
BEGIN:VEVENT
DTSTART;TZID=Australia/Sydney:20240912T130000
DTEND;TZID=Australia/Sydney:20240912T130000
DTSTAMP:20260426T075919
CREATED:20240816T022324Z
LAST-MODIFIED:20240816T022324Z
UID:73104-1726146000-1726146000@www.angusaustralia.com.au
SUMMARY:Tooraweenah Angus 2024 Bull Sale
DESCRIPTION:
URL:https://www.angusaustralia.com.au/event/tooraweenah-angus-2024-bull-sale
LOCATION:Moorambilla\, Coonamble\, NSW\, Australia
ORGANIZER;CN="Michael Leonard":MAILTO:michael@epm.com.au
END:VEVENT
BEGIN:VEVENT
DTSTART;TZID=Australia/Sydney:20240912T130000
DTEND;TZID=Australia/Sydney:20240912T130000
DTSTAMP:20260426T075919
CREATED:20240902T041953Z
LAST-MODIFIED:20240902T044831Z
UID:73462-1726146000-1726146000@www.angusaustralia.com.au
SUMMARY:Francs Angus Helmsman Auction 2024
DESCRIPTION:
URL:https://www.angusaustralia.com.au/event/francs-angus-helmsman-auction-2024
LOCATION:Koornang Park\, 2957 Streatham- Carngham Road\, CARRANBALLAC\, VIC\, 3361\, Australia
ORGANIZER;CN="Nick Franc":MAILTO:nickfranc1@hotmail.com
END:VEVENT
END:VCALENDAR