BEGIN:VCALENDAR
VERSION:2.0
PRODID:-//Angus Australia - ECPv6.15.17//NONSGML v1.0//EN
CALSCALE:GREGORIAN
METHOD:PUBLISH
X-WR-CALNAME:Angus Australia
X-ORIGINAL-URL:https://www.angusaustralia.com.au
X-WR-CALDESC:Events for Angus Australia
REFRESH-INTERVAL;VALUE=DURATION:PT1H
X-Robots-Tag:noindex
X-PUBLISHED-TTL:PT1H
BEGIN:VTIMEZONE
TZID:Australia/Sydney
BEGIN:STANDARD
TZOFFSETFROM:+1100
TZOFFSETTO:+1000
TZNAME:AEST
DTSTART:20230401T160000
END:STANDARD
BEGIN:DAYLIGHT
TZOFFSETFROM:+1000
TZOFFSETTO:+1100
TZNAME:AEDT
DTSTART:20230930T160000
END:DAYLIGHT
BEGIN:STANDARD
TZOFFSETFROM:+1100
TZOFFSETTO:+1000
TZNAME:AEST
DTSTART:20240406T160000
END:STANDARD
BEGIN:DAYLIGHT
TZOFFSETFROM:+1000
TZOFFSETTO:+1100
TZNAME:AEDT
DTSTART:20241005T160000
END:DAYLIGHT
BEGIN:STANDARD
TZOFFSETFROM:+1100
TZOFFSETTO:+1000
TZNAME:AEST
DTSTART:20250405T160000
END:STANDARD
BEGIN:DAYLIGHT
TZOFFSETFROM:+1000
TZOFFSETTO:+1100
TZNAME:AEDT
DTSTART:20251004T160000
END:DAYLIGHT
END:VTIMEZONE
BEGIN:VEVENT
DTSTART;TZID=Australia/Sydney:20240919T130000
DTEND;TZID=Australia/Sydney:20240919T130000
DTSTAMP:20260424T191539
CREATED:20240611T055845Z
LAST-MODIFIED:20240909T014414Z
UID:71669-1726750800-1726750800@www.angusaustralia.com.au
SUMMARY:Paringa Premier Yearling Bull Sale
DESCRIPTION:
URL:https://www.angusaustralia.com.au/event/paringa-premier-yearling-bull-sale
LOCATION:Miss Youngs\, 93 Creeds Rd\, Murrindindi\, VIC\, 3717\, Australia
ORGANIZER;CN="Tom & Olivia Lawson":MAILTO:info@paringalivestock.com.au
END:VEVENT
BEGIN:VEVENT
DTSTART;TZID=Australia/Sydney:20240919T130000
DTEND;TZID=Australia/Sydney:20240919T130000
DTSTAMP:20260424T191539
CREATED:20240829T032201Z
LAST-MODIFIED:20240829T032201Z
UID:73421-1726750800-1726750800@www.angusaustralia.com.au
SUMMARY:Hardhat Angus 2024 Bull Sale
DESCRIPTION:
URL:https://www.angusaustralia.com.au/event/hardhat-angus-2024-bull-sale
LOCATION:Harden Showground Cattle Shed
END:VEVENT
BEGIN:VEVENT
DTSTART;TZID=Australia/Sydney:20240919T140000
DTEND;TZID=Australia/Sydney:20240919T140000
DTSTAMP:20260424T191539
CREATED:20240618T013825Z
LAST-MODIFIED:20240826T023431Z
UID:71804-1726754400-1726754400@www.angusaustralia.com.au
SUMMARY:Mooroobie Angus Bull Sale
DESCRIPTION:Auction Plus concluding at 1400 hrs on 19th September 2024
URL:https://www.angusaustralia.com.au/event/mooroobie-angus-wagyu-sale-2024
LOCATION:Mooroobie\, 512 Kildonan Road\, Goondiwindi\, QLD\, 4390\, Australia
ORGANIZER;CN="Lindsay Ward":MAILTO:lward@bigpond.com
END:VEVENT
END:VCALENDAR