BEGIN:VCALENDAR
VERSION:2.0
PRODID:-//Angus Australia - ECPv6.15.17//NONSGML v1.0//EN
CALSCALE:GREGORIAN
METHOD:PUBLISH
X-WR-CALNAME:Angus Australia
X-ORIGINAL-URL:https://www.angusaustralia.com.au
X-WR-CALDESC:Events for Angus Australia
REFRESH-INTERVAL;VALUE=DURATION:PT1H
X-Robots-Tag:noindex
X-PUBLISHED-TTL:PT1H
BEGIN:VTIMEZONE
TZID:Australia/Sydney
BEGIN:STANDARD
TZOFFSETFROM:+1100
TZOFFSETTO:+1000
TZNAME:AEST
DTSTART:20240406T160000
END:STANDARD
BEGIN:DAYLIGHT
TZOFFSETFROM:+1000
TZOFFSETTO:+1100
TZNAME:AEDT
DTSTART:20241005T160000
END:DAYLIGHT
BEGIN:STANDARD
TZOFFSETFROM:+1100
TZOFFSETTO:+1000
TZNAME:AEST
DTSTART:20250405T160000
END:STANDARD
BEGIN:DAYLIGHT
TZOFFSETFROM:+1000
TZOFFSETTO:+1100
TZNAME:AEDT
DTSTART:20251004T160000
END:DAYLIGHT
BEGIN:STANDARD
TZOFFSETFROM:+1100
TZOFFSETTO:+1000
TZNAME:AEST
DTSTART:20260404T160000
END:STANDARD
BEGIN:DAYLIGHT
TZOFFSETFROM:+1000
TZOFFSETTO:+1100
TZNAME:AEDT
DTSTART:20261003T160000
END:DAYLIGHT
END:VTIMEZONE
BEGIN:VTIMEZONE
TZID:Australia/Perth
BEGIN:STANDARD
TZOFFSETFROM:+0800
TZOFFSETTO:+0800
TZNAME:AWST
DTSTART:20240101T000000
END:STANDARD
END:VTIMEZONE
BEGIN:VEVENT
DTSTART;VALUE=DATE:20250128
DTEND;VALUE=DATE:20250129
DTSTAMP:20260421T164157
CREATED:20241211T032058Z
LAST-MODIFIED:20241211T032058Z
UID:75596-1738022400-1738108799@www.angusaustralia.com.au
SUMMARY:Mid February TACE Submission Deadline - Performance Data
DESCRIPTION:All submissions must be received by Angus Australia before 5pm on the submission deadline for guaranteed inclusion in the analysis.
URL:https://www.angusaustralia.com.au/event/mid-february-tace-submission-deadline-performance-data
END:VEVENT
BEGIN:VEVENT
DTSTART;TZID=Australia/Perth:20250128T130000
DTEND;TZID=Australia/Perth:20250128T170000
DTSTAMP:20260421T164157
CREATED:20241212T011905Z
LAST-MODIFIED:20250116T021125Z
UID:75703-1738069200-1738083600@www.angusaustralia.com.au
SUMMARY:Mason Valley Angus Bull Sale
DESCRIPTION:To view online sale listing CLICK HERE \nTo view Sale Catalouge PDF CLICK HERE
URL:https://www.angusaustralia.com.au/event/mason-valley-angus-bull-sale-2
LOCATION:On Property- Mason Valley\, 5 Tudor Rd\, YOUNG SIDING\, WA\, Australia
ORGANIZER;CN="Narelle Burrow":MAILTO:masonvalley.office@gmail.com
END:VEVENT
END:VCALENDAR