BEGIN:VCALENDAR
VERSION:2.0
PRODID:-//Angus Australia - ECPv6.15.17//NONSGML v1.0//EN
CALSCALE:GREGORIAN
METHOD:PUBLISH
X-ORIGINAL-URL:https://www.angusaustralia.com.au
X-WR-CALDESC:Events for Angus Australia
REFRESH-INTERVAL;VALUE=DURATION:PT1H
X-Robots-Tag:noindex
X-PUBLISHED-TTL:PT1H
BEGIN:VTIMEZONE
TZID:Australia/Sydney
BEGIN:STANDARD
TZOFFSETFROM:+1100
TZOFFSETTO:+1000
TZNAME:AEST
DTSTART:20240406T160000
END:STANDARD
BEGIN:DAYLIGHT
TZOFFSETFROM:+1000
TZOFFSETTO:+1100
TZNAME:AEDT
DTSTART:20241005T160000
END:DAYLIGHT
BEGIN:STANDARD
TZOFFSETFROM:+1100
TZOFFSETTO:+1000
TZNAME:AEST
DTSTART:20250405T160000
END:STANDARD
BEGIN:DAYLIGHT
TZOFFSETFROM:+1000
TZOFFSETTO:+1100
TZNAME:AEDT
DTSTART:20251004T160000
END:DAYLIGHT
BEGIN:STANDARD
TZOFFSETFROM:+1100
TZOFFSETTO:+1000
TZNAME:AEST
DTSTART:20260404T160000
END:STANDARD
BEGIN:DAYLIGHT
TZOFFSETFROM:+1000
TZOFFSETTO:+1100
TZNAME:AEDT
DTSTART:20261003T160000
END:DAYLIGHT
END:VTIMEZONE
BEGIN:VEVENT
DTSTART;TZID=Australia/Sydney:20250204T090000
DTEND;TZID=Australia/Sydney:20250204T160000
DTSTAMP:20260424T091203
CREATED:20241220T065419Z
LAST-MODIFIED:20250120T054524Z
UID:75880-1738659600-1738684800@www.angusaustralia.com.au
SUMMARY:Jade Park Angus- Beef Week Bull and Heifer Inspection Day
DESCRIPTION:
URL:https://www.angusaustralia.com.au/event/jade-park-angus-beef-week-bull-inspection-day
LOCATION:1617 Wangaratta-Kilferra Road\, 1617 Wangaratta-Kilferra Road\, Hansonville\, VIC\, 3675\, Australia
ORGANIZER;CN="Andrew McLean":MAILTO:contact@jadepark.com.au
END:VEVENT
BEGIN:VEVENT
DTSTART;TZID=Australia/Sydney:20250204T090000
DTEND;TZID=Australia/Sydney:20250204T170000
DTSTAMP:20260424T091203
CREATED:20250121T044739Z
LAST-MODIFIED:20250121T044932Z
UID:76469-1738659600-1738688400@www.angusaustralia.com.au
SUMMARY:Riddellvue Angus Beef Week Open Day 2025
DESCRIPTION:
URL:https://www.angusaustralia.com.au/event/riddellvue-angus-beef-week-open-day-2025
LOCATION:On Property- Riddellvue\, 153 Markwood Tarrawingee road\, MARKWOOD\, VIC\, 3678\, Australia
ORGANIZER;CN="Ian Bates":MAILTO:ian@riddellvue.com.au
END:VEVENT
END:VCALENDAR