BEGIN:VCALENDAR
VERSION:2.0
PRODID:-//Angus Australia - ECPv6.15.17//NONSGML v1.0//EN
CALSCALE:GREGORIAN
METHOD:PUBLISH
X-ORIGINAL-URL:https://www.angusaustralia.com.au
X-WR-CALDESC:Events for Angus Australia
REFRESH-INTERVAL;VALUE=DURATION:PT1H
X-Robots-Tag:noindex
X-PUBLISHED-TTL:PT1H
BEGIN:VTIMEZONE
TZID:Australia/Sydney
BEGIN:STANDARD
TZOFFSETFROM:+1100
TZOFFSETTO:+1000
TZNAME:AEST
DTSTART:20240406T160000
END:STANDARD
BEGIN:DAYLIGHT
TZOFFSETFROM:+1000
TZOFFSETTO:+1100
TZNAME:AEDT
DTSTART:20241005T160000
END:DAYLIGHT
BEGIN:STANDARD
TZOFFSETFROM:+1100
TZOFFSETTO:+1000
TZNAME:AEST
DTSTART:20250405T160000
END:STANDARD
BEGIN:DAYLIGHT
TZOFFSETFROM:+1000
TZOFFSETTO:+1100
TZNAME:AEDT
DTSTART:20251004T160000
END:DAYLIGHT
BEGIN:STANDARD
TZOFFSETFROM:+1100
TZOFFSETTO:+1000
TZNAME:AEST
DTSTART:20260404T160000
END:STANDARD
BEGIN:DAYLIGHT
TZOFFSETFROM:+1000
TZOFFSETTO:+1100
TZNAME:AEDT
DTSTART:20261003T160000
END:DAYLIGHT
END:VTIMEZONE
BEGIN:VTIMEZONE
TZID:Australia/Melbourne
BEGIN:STANDARD
TZOFFSETFROM:+1100
TZOFFSETTO:+1000
TZNAME:AEST
DTSTART:20240406T160000
END:STANDARD
BEGIN:DAYLIGHT
TZOFFSETFROM:+1000
TZOFFSETTO:+1100
TZNAME:AEDT
DTSTART:20241005T160000
END:DAYLIGHT
BEGIN:STANDARD
TZOFFSETFROM:+1100
TZOFFSETTO:+1000
TZNAME:AEST
DTSTART:20250405T160000
END:STANDARD
BEGIN:DAYLIGHT
TZOFFSETFROM:+1000
TZOFFSETTO:+1100
TZNAME:AEDT
DTSTART:20251004T160000
END:DAYLIGHT
BEGIN:STANDARD
TZOFFSETFROM:+1100
TZOFFSETTO:+1000
TZNAME:AEST
DTSTART:20260404T160000
END:STANDARD
BEGIN:DAYLIGHT
TZOFFSETFROM:+1000
TZOFFSETTO:+1100
TZNAME:AEDT
DTSTART:20261003T160000
END:DAYLIGHT
END:VTIMEZONE
BEGIN:VEVENT
DTSTART;TZID=Australia/Sydney:20250207T130000
DTEND;TZID=Australia/Sydney:20250207T130000
DTSTAMP:20260426T093608
CREATED:20241204T020128Z
LAST-MODIFIED:20241204T020128Z
UID:75459-1738933200-1738933200@www.angusaustralia.com.au
SUMMARY:Arkle Angus Bull Sale
DESCRIPTION:To view online sale listing CLICK HERE
URL:https://www.angusaustralia.com.au/event/arkle-angus-bull-sale-2
LOCATION:Arkle Angus\, 345 Arthur Road\, Rosa Brook\, Munglinup\, 6450\, 6285\, Australia
ORGANIZER;CN="Siobhan Solway":MAILTO:siobhan.solway@arklefarms.com
END:VEVENT
BEGIN:VEVENT
DTSTART;TZID=Australia/Sydney:20250207T130000
DTEND;TZID=Australia/Sydney:20250207T130000
DTSTAMP:20260426T093608
CREATED:20241211T005545Z
LAST-MODIFIED:20241211T005545Z
UID:75572-1738933200-1738933200@www.angusaustralia.com.au
SUMMARY:Tandara Angus Stud Online Bull Sale
DESCRIPTION:To view online sale listing CLICK HERE
URL:https://www.angusaustralia.com.au/event/tandara-angus-stud-online-bull-sale
LOCATION:Online\, AuctionsPlus
ORGANIZER;CN="Godfrey Darling":MAILTO:gillwingah@gmail.com
END:VEVENT
BEGIN:VEVENT
DTSTART;TZID=Australia/Melbourne:20250207T130000
DTEND;TZID=Australia/Melbourne:20250207T130000
DTSTAMP:20260426T093608
CREATED:20250107T230249Z
LAST-MODIFIED:20250107T230249Z
UID:76112-1738933200-1738933200@www.angusaustralia.com.au
SUMMARY:Riddellvue Autumn Herd Dispersal
DESCRIPTION:To view online sale listing CLICK HERE
URL:https://www.angusaustralia.com.au/event/riddellvue-autumn-herd-dispersal
LOCATION:Riddellvue\, 489 Whanregarwen Road\, Alexandra\, VIC\, 3714\, Australia
ORGANIZER;CN="Ian Bates":MAILTO:ian@riddellvue.com.au
END:VEVENT
END:VCALENDAR