BEGIN:VCALENDAR
VERSION:2.0
PRODID:-//Angus Australia - ECPv6.15.17//NONSGML v1.0//EN
CALSCALE:GREGORIAN
METHOD:PUBLISH
X-ORIGINAL-URL:https://www.angusaustralia.com.au
X-WR-CALDESC:Events for Angus Australia
REFRESH-INTERVAL;VALUE=DURATION:PT1H
X-Robots-Tag:noindex
X-PUBLISHED-TTL:PT1H
BEGIN:VTIMEZONE
TZID:Australia/Sydney
BEGIN:STANDARD
TZOFFSETFROM:+1100
TZOFFSETTO:+1000
TZNAME:AEST
DTSTART:20240406T160000
END:STANDARD
BEGIN:DAYLIGHT
TZOFFSETFROM:+1000
TZOFFSETTO:+1100
TZNAME:AEDT
DTSTART:20241005T160000
END:DAYLIGHT
BEGIN:STANDARD
TZOFFSETFROM:+1100
TZOFFSETTO:+1000
TZNAME:AEST
DTSTART:20250405T160000
END:STANDARD
BEGIN:DAYLIGHT
TZOFFSETFROM:+1000
TZOFFSETTO:+1100
TZNAME:AEDT
DTSTART:20251004T160000
END:DAYLIGHT
BEGIN:STANDARD
TZOFFSETFROM:+1100
TZOFFSETTO:+1000
TZNAME:AEST
DTSTART:20260404T160000
END:STANDARD
BEGIN:DAYLIGHT
TZOFFSETFROM:+1000
TZOFFSETTO:+1100
TZNAME:AEDT
DTSTART:20261003T160000
END:DAYLIGHT
END:VTIMEZONE
BEGIN:VTIMEZONE
TZID:Australia/Perth
BEGIN:STANDARD
TZOFFSETFROM:+0800
TZOFFSETTO:+0800
TZNAME:AWST
DTSTART:20240101T000000
END:STANDARD
END:VTIMEZONE
BEGIN:VEVENT
DTSTART;VALUE=DATE:20250220
DTEND;VALUE=DATE:20250221
DTSTAMP:20260424T130431
CREATED:20241211T032556Z
LAST-MODIFIED:20241211T032556Z
UID:75602-1740009600-1740095999@www.angusaustralia.com.au
SUMMARY:Mid March TACE Submission Deadline - Animal Registration & Structural Scores
DESCRIPTION:All submissions must be received by Angus Australia before 5pm on the submission deadline for guaranteed inclusion in the analysis.
URL:https://www.angusaustralia.com.au/event/mid-march-tace-submission-deadline-animal-registration-structural-scores
END:VEVENT
BEGIN:VEVENT
DTSTART;TZID=Australia/Perth:20250220T110000
DTEND;TZID=Australia/Perth:20250220T110000
DTSTAMP:20260424T130431
CREATED:20250106T235805Z
LAST-MODIFIED:20250106T235805Z
UID:76093-1740049200-1740049200@www.angusaustralia.com.au
SUMMARY:Pathfinder SA Sale
DESCRIPTION:To view online sale listing CLICK HERE
URL:https://www.angusaustralia.com.au/event/pathfinder-sa-sale
LOCATION:Pathfinder\, 2126 Macarthur-Penshurst Road\, Gazette\, VIC\, 3289\, Australia
ORGANIZER;CN="Nick & Sara Moyle":MAILTO:moyles@skymesh.com.au
END:VEVENT
BEGIN:VEVENT
DTSTART;TZID=Australia/Perth:20250220T130000
DTEND;TZID=Australia/Perth:20250220T130000
DTSTAMP:20260424T130431
CREATED:20250214T025643Z
LAST-MODIFIED:20250214T025643Z
UID:77048-1740056400-1740056400@www.angusaustralia.com.au
SUMMARY:Carenda Angus Bull Sale
DESCRIPTION:To view online sale listing CLICK HERE
URL:https://www.angusaustralia.com.au/event/carenda-angus-bull-sale-2
LOCATION:On Property – Carenda Angus\, 825 Katanning-Dumbleyung Rd\, Pinwernying\, WA\, 6317\, Australia
ORGANIZER;CN="Matt Kitchen":MAILTO:mattkitchen@carendaangus.com
END:VEVENT
END:VCALENDAR