BEGIN:VCALENDAR
VERSION:2.0
PRODID:-//Angus Australia - ECPv6.15.17//NONSGML v1.0//EN
CALSCALE:GREGORIAN
METHOD:PUBLISH
X-ORIGINAL-URL:https://www.angusaustralia.com.au
X-WR-CALDESC:Events for Angus Australia
REFRESH-INTERVAL;VALUE=DURATION:PT1H
X-Robots-Tag:noindex
X-PUBLISHED-TTL:PT1H
BEGIN:VTIMEZONE
TZID:Australia/Sydney
BEGIN:STANDARD
TZOFFSETFROM:+1100
TZOFFSETTO:+1000
TZNAME:AEST
DTSTART:20240406T160000
END:STANDARD
BEGIN:DAYLIGHT
TZOFFSETFROM:+1000
TZOFFSETTO:+1100
TZNAME:AEDT
DTSTART:20241005T160000
END:DAYLIGHT
BEGIN:STANDARD
TZOFFSETFROM:+1100
TZOFFSETTO:+1000
TZNAME:AEST
DTSTART:20250405T160000
END:STANDARD
BEGIN:DAYLIGHT
TZOFFSETFROM:+1000
TZOFFSETTO:+1100
TZNAME:AEDT
DTSTART:20251004T160000
END:DAYLIGHT
BEGIN:STANDARD
TZOFFSETFROM:+1100
TZOFFSETTO:+1000
TZNAME:AEST
DTSTART:20260404T160000
END:STANDARD
BEGIN:DAYLIGHT
TZOFFSETFROM:+1000
TZOFFSETTO:+1100
TZNAME:AEDT
DTSTART:20261003T160000
END:DAYLIGHT
END:VTIMEZONE
BEGIN:VTIMEZONE
TZID:Australia/Melbourne
BEGIN:STANDARD
TZOFFSETFROM:+1100
TZOFFSETTO:+1000
TZNAME:AEST
DTSTART:20240406T160000
END:STANDARD
BEGIN:DAYLIGHT
TZOFFSETFROM:+1000
TZOFFSETTO:+1100
TZNAME:AEDT
DTSTART:20241005T160000
END:DAYLIGHT
BEGIN:STANDARD
TZOFFSETFROM:+1100
TZOFFSETTO:+1000
TZNAME:AEST
DTSTART:20250405T160000
END:STANDARD
BEGIN:DAYLIGHT
TZOFFSETFROM:+1000
TZOFFSETTO:+1100
TZNAME:AEDT
DTSTART:20251004T160000
END:DAYLIGHT
BEGIN:STANDARD
TZOFFSETFROM:+1100
TZOFFSETTO:+1000
TZNAME:AEST
DTSTART:20260404T160000
END:STANDARD
BEGIN:DAYLIGHT
TZOFFSETFROM:+1000
TZOFFSETTO:+1100
TZNAME:AEDT
DTSTART:20261003T160000
END:DAYLIGHT
END:VTIMEZONE
BEGIN:VEVENT
DTSTART;TZID=Australia/Sydney:20250325T103000
DTEND;TZID=Australia/Sydney:20250325T103000
DTSTAMP:20260424T114651
CREATED:20241224T055610Z
LAST-MODIFIED:20241224T055649Z
UID:75933-1742898600-1742898600@www.angusaustralia.com.au
SUMMARY:Langi Kal Kal Angus 2025 Bull Sale
DESCRIPTION:
URL:https://www.angusaustralia.com.au/event/langi-kal-kal-angus-2025-bull-sale
LOCATION:CVLX Ballarat\, VIC\, Australia
ORGANIZER;CN="Kahn Jantzen":MAILTO:kahn.jantzen@justice.vic.gov.au
END:VEVENT
BEGIN:VEVENT
DTSTART;TZID=Australia/Melbourne:20250325T130000
DTEND;TZID=Australia/Melbourne:20250325T130000
DTSTAMP:20260424T114651
CREATED:20241220T070133Z
LAST-MODIFIED:20250213T232522Z
UID:75885-1742907600-1742907600@www.angusaustralia.com.au
SUMMARY:Jade Park Angus Annual Bull and Heifer Sale
DESCRIPTION:To view online sale listing CLICK HERE
URL:https://www.angusaustralia.com.au/event/jade-park-angus-annual-bull-sale
LOCATION:1617 Wangaratta-Kilferra Road\, 1617 Wangaratta-Kilferra Road\, Hansonville\, VIC\, 3675\, Australia
ORGANIZER;CN="Andrew McLean":MAILTO:contact@jadepark.com.au
END:VEVENT
END:VCALENDAR