BEGIN:VCALENDAR
VERSION:2.0
PRODID:-//Angus Australia - ECPv6.15.17//NONSGML v1.0//EN
CALSCALE:GREGORIAN
METHOD:PUBLISH
X-WR-CALNAME:Angus Australia
X-ORIGINAL-URL:https://www.angusaustralia.com.au
X-WR-CALDESC:Events for Angus Australia
REFRESH-INTERVAL;VALUE=DURATION:PT1H
X-Robots-Tag:noindex
X-PUBLISHED-TTL:PT1H
BEGIN:VTIMEZONE
TZID:Australia/Sydney
BEGIN:STANDARD
TZOFFSETFROM:+1100
TZOFFSETTO:+1000
TZNAME:AEST
DTSTART:20240406T160000
END:STANDARD
BEGIN:DAYLIGHT
TZOFFSETFROM:+1000
TZOFFSETTO:+1100
TZNAME:AEDT
DTSTART:20241005T160000
END:DAYLIGHT
BEGIN:STANDARD
TZOFFSETFROM:+1100
TZOFFSETTO:+1000
TZNAME:AEST
DTSTART:20250405T160000
END:STANDARD
BEGIN:DAYLIGHT
TZOFFSETFROM:+1000
TZOFFSETTO:+1100
TZNAME:AEDT
DTSTART:20251004T160000
END:DAYLIGHT
BEGIN:STANDARD
TZOFFSETFROM:+1100
TZOFFSETTO:+1000
TZNAME:AEST
DTSTART:20260404T160000
END:STANDARD
BEGIN:DAYLIGHT
TZOFFSETFROM:+1000
TZOFFSETTO:+1100
TZNAME:AEDT
DTSTART:20261003T160000
END:DAYLIGHT
END:VTIMEZONE
BEGIN:VEVENT
DTSTART;VALUE=DATE:20250401
DTEND;VALUE=DATE:20250402
DTSTAMP:20260426T063500
CREATED:20241211T033242Z
LAST-MODIFIED:20241211T033242Z
UID:75612-1743465600-1743551999@www.angusaustralia.com.au
SUMMARY:Mid April TACE Submission Deadline - Performance Data
DESCRIPTION:All submissions must be received by Angus Australia before 5pm on the submission deadline for guaranteed inclusion in the analysis.
URL:https://www.angusaustralia.com.au/event/mid-april-tace-submission-deadline-performance-data
END:VEVENT
BEGIN:VEVENT
DTSTART;TZID=Australia/Sydney:20250401T130000
DTEND;TZID=Australia/Sydney:20250401T130000
DTSTAMP:20260426T063500
CREATED:20250304T041747Z
LAST-MODIFIED:20250304T043936Z
UID:77433-1743512400-1743512400@www.angusaustralia.com.au
SUMMARY:Pinora Angus Cow Herd Dispersal 2025
DESCRIPTION:
URL:https://www.angusaustralia.com.au/event/pinora-angus-cow-herd-dispersal-2025
LOCATION:Pinora\, 453 Dawson Road\, Heyfield\, VIC\, 3858\, Australia
ORGANIZER;CN="John Sunderman":MAILTO:pinora@wideband.net.au
END:VEVENT
END:VCALENDAR