BEGIN:VCALENDAR
VERSION:2.0
PRODID:-//Angus Australia - ECPv6.15.17//NONSGML v1.0//EN
CALSCALE:GREGORIAN
METHOD:PUBLISH
X-WR-CALNAME:Angus Australia
X-ORIGINAL-URL:https://www.angusaustralia.com.au
X-WR-CALDESC:Events for Angus Australia
REFRESH-INTERVAL;VALUE=DURATION:PT1H
X-Robots-Tag:noindex
X-PUBLISHED-TTL:PT1H
BEGIN:VTIMEZONE
TZID:Australia/Brisbane
BEGIN:STANDARD
TZOFFSETFROM:+1000
TZOFFSETTO:+1000
TZNAME:AEST
DTSTART:20240101T000000
END:STANDARD
END:VTIMEZONE
BEGIN:VEVENT
DTSTART;TZID=Australia/Brisbane:20250403T120000
DTEND;TZID=Australia/Brisbane:20250403T120000
DTSTAMP:20260424T090845
CREATED:20250217T060308Z
LAST-MODIFIED:20250220T032924Z
UID:77074-1743681600-1743681600@www.angusaustralia.com.au
SUMMARY:Wallangra Angus Sale 2025
DESCRIPTION:
URL:https://www.angusaustralia.com.au/event/wallangra-angus-sale-2025
LOCATION:On Property- Wallangra\, Wallangra 631 Goldens Road\, WANDOAN\, QLD\, 4419\, Australia
END:VEVENT
END:VCALENDAR