BEGIN:VCALENDAR
VERSION:2.0
PRODID:-//Angus Australia - ECPv6.15.17//NONSGML v1.0//EN
CALSCALE:GREGORIAN
METHOD:PUBLISH
X-WR-CALNAME:Angus Australia
X-ORIGINAL-URL:https://www.angusaustralia.com.au
X-WR-CALDESC:Events for Angus Australia
REFRESH-INTERVAL;VALUE=DURATION:PT1H
X-Robots-Tag:noindex
X-PUBLISHED-TTL:PT1H
BEGIN:VTIMEZONE
TZID:Australia/Sydney
BEGIN:STANDARD
TZOFFSETFROM:+1100
TZOFFSETTO:+1000
TZNAME:AEST
DTSTART:20240406T160000
END:STANDARD
BEGIN:DAYLIGHT
TZOFFSETFROM:+1000
TZOFFSETTO:+1100
TZNAME:AEDT
DTSTART:20241005T160000
END:DAYLIGHT
BEGIN:STANDARD
TZOFFSETFROM:+1100
TZOFFSETTO:+1000
TZNAME:AEST
DTSTART:20250405T160000
END:STANDARD
BEGIN:DAYLIGHT
TZOFFSETFROM:+1000
TZOFFSETTO:+1100
TZNAME:AEDT
DTSTART:20251004T160000
END:DAYLIGHT
BEGIN:STANDARD
TZOFFSETFROM:+1100
TZOFFSETTO:+1000
TZNAME:AEST
DTSTART:20260404T160000
END:STANDARD
BEGIN:DAYLIGHT
TZOFFSETFROM:+1000
TZOFFSETTO:+1100
TZNAME:AEDT
DTSTART:20261003T160000
END:DAYLIGHT
END:VTIMEZONE
BEGIN:VEVENT
DTSTART;VALUE=DATE:20250429
DTEND;VALUE=DATE:20250430
DTSTAMP:20260424T152239
CREATED:20241211T033850Z
LAST-MODIFIED:20241211T033850Z
UID:75621-1745884800-1745971199@www.angusaustralia.com.au
SUMMARY:Mid May TACE Submission Deadline - Performance Data
DESCRIPTION:All submissions must be received by Angus Australia before 5pm on the submission deadline for guaranteed inclusion in the analysis.
URL:https://www.angusaustralia.com.au/event/mid-may-tace-submission-deadline-performance-data
END:VEVENT
BEGIN:VEVENT
DTSTART;VALUE=DATE:20250429
DTEND;VALUE=DATE:20250507
DTSTAMP:20260424T152239
CREATED:20240826T232624Z
LAST-MODIFIED:20241218T054326Z
UID:73288-1745884800-1746575999@www.angusaustralia.com.au
SUMMARY:AngusTREK
DESCRIPTION:AngusTREK\, sponsored by Zoetis will take place from Tuesday the 29th of April until Tuesday the 6th of May. There are just 200 tickets available. \nMORE INFORMATION AND PURCHASE TICKETS  \n  \nContact:\nMel Strasburg\nWorld Angus Forum Coordinator\nAngus Australia \nMobile: 0459 959 770\nEmail: mel.strasburg@angusaustralia.com.au
URL:https://www.angusaustralia.com.au/event/angustrek
END:VEVENT
BEGIN:VEVENT
DTSTART;TZID=Australia/Sydney:20250429T183000
DTEND;TZID=Australia/Sydney:20250429T220000
DTSTAMP:20260424T152239
CREATED:20241217T225516Z
LAST-MODIFIED:20241218T054139Z
UID:75814-1745951400-1745964000@www.angusaustralia.com.au
SUMMARY:2025 Neogen World Angus Forum welcome function harbour cruise
DESCRIPTION:Experience an unforgettable cocktail event on board the Starship Sydney as the 2025 Neogen World Angus Forum experience opens with a welcome function in Sydney on a luxury floating venue featuring 360° views of the Harbour.  \nWelcome Cruise Information  \nTicket Price: $200AUD pp  \nBoarding and disembarking location: No 4\, King Street Wharf\, Darling Harbour NSW\nBoarding time: 6.30pm  \nCruising time: 7.00pm – 10.00pm  \n3-hour beverage package (Sparkling\, White wine\, Red wine\, Beer\, Soft drink & juices)  \n3-hour canape package  \n  \nFOR MORE INFORMATION CLICK HERE
URL:https://www.angusaustralia.com.au/event/2025-neogen-world-angus-forum-welcome-function-harbour-cruise
LOCATION:No 4\, King Street Wharf\,\, King Street Wharf\, Darling Harbour\, NSW\, 2000\, Australia
ORGANIZER;CN="Mel Strasburg":MAILTO:mel.strasburg@angusaustralia.com.au
END:VEVENT
END:VCALENDAR