BEGIN:VCALENDAR
VERSION:2.0
PRODID:-//Angus Australia - ECPv6.15.17//NONSGML v1.0//EN
CALSCALE:GREGORIAN
METHOD:PUBLISH
X-ORIGINAL-URL:https://www.angusaustralia.com.au
X-WR-CALDESC:Events for Angus Australia
REFRESH-INTERVAL;VALUE=DURATION:PT1H
X-Robots-Tag:noindex
X-PUBLISHED-TTL:PT1H
BEGIN:VTIMEZONE
TZID:Australia/Sydney
BEGIN:STANDARD
TZOFFSETFROM:+1100
TZOFFSETTO:+1000
TZNAME:AEST
DTSTART:20240406T160000
END:STANDARD
BEGIN:DAYLIGHT
TZOFFSETFROM:+1000
TZOFFSETTO:+1100
TZNAME:AEDT
DTSTART:20241005T160000
END:DAYLIGHT
BEGIN:STANDARD
TZOFFSETFROM:+1100
TZOFFSETTO:+1000
TZNAME:AEST
DTSTART:20250405T160000
END:STANDARD
BEGIN:DAYLIGHT
TZOFFSETFROM:+1000
TZOFFSETTO:+1100
TZNAME:AEDT
DTSTART:20251004T160000
END:DAYLIGHT
BEGIN:STANDARD
TZOFFSETFROM:+1100
TZOFFSETTO:+1000
TZNAME:AEST
DTSTART:20260404T160000
END:STANDARD
BEGIN:DAYLIGHT
TZOFFSETFROM:+1000
TZOFFSETTO:+1100
TZNAME:AEDT
DTSTART:20261003T160000
END:DAYLIGHT
END:VTIMEZONE
BEGIN:VEVENT
DTSTART;VALUE=DATE:20250507
DTEND;VALUE=DATE:20250509
DTSTAMP:20260422T164644
CREATED:20230904T023008Z
LAST-MODIFIED:20241217T223338Z
UID:65649-1746576000-1746748799@www.angusaustralia.com.au
SUMMARY:2025 Neogen World Angus Forum
DESCRIPTION:MORE INFORMATION AND PURCHASE TICKETS \n  \nContact:\nMel Strasburg\nWorld Angus Forum Coordinator\nAngus Australia \nMobile: 0459 959 770\nEmail: mel.strasburg@angusaustralia.com.au
URL:https://www.angusaustralia.com.au/event/2025-neogen-world-angus-forum
LOCATION:Brisbane Convention and Exhibition Centre\, Glenelg St\, South Brisbane\, QLD\, 4101\, Australia
ORGANIZER;CN="Mel Strasburg":MAILTO:mel.strasburg@angusaustralia.com.au
END:VEVENT
BEGIN:VEVENT
DTSTART;VALUE=DATE:20250508
DTEND;VALUE=DATE:20250509
DTSTAMP:20260422T164644
CREATED:20241211T034044Z
LAST-MODIFIED:20241211T034044Z
UID:75623-1746662400-1746748799@www.angusaustralia.com.au
SUMMARY:June TACE Submission Deadline - Animal Registration & Structural Scores
DESCRIPTION:All submissions must be received by Angus Australia before 5pm on the submission deadline for guaranteed inclusion in the analysis.
URL:https://www.angusaustralia.com.au/event/june-tace-submission-deadline-animal-registration-structural-scores
END:VEVENT
END:VCALENDAR