BEGIN:VCALENDAR
VERSION:2.0
PRODID:-//Angus Australia - ECPv6.15.17//NONSGML v1.0//EN
CALSCALE:GREGORIAN
METHOD:PUBLISH
X-WR-CALNAME:Angus Australia
X-ORIGINAL-URL:https://www.angusaustralia.com.au
X-WR-CALDESC:Events for Angus Australia
REFRESH-INTERVAL;VALUE=DURATION:PT1H
X-Robots-Tag:noindex
X-PUBLISHED-TTL:PT1H
BEGIN:VTIMEZONE
TZID:Australia/Hobart
BEGIN:STANDARD
TZOFFSETFROM:+1100
TZOFFSETTO:+1000
TZNAME:AEST
DTSTART:20240406T160000
END:STANDARD
BEGIN:DAYLIGHT
TZOFFSETFROM:+1000
TZOFFSETTO:+1100
TZNAME:AEDT
DTSTART:20241005T160000
END:DAYLIGHT
BEGIN:STANDARD
TZOFFSETFROM:+1100
TZOFFSETTO:+1000
TZNAME:AEST
DTSTART:20250405T160000
END:STANDARD
BEGIN:DAYLIGHT
TZOFFSETFROM:+1000
TZOFFSETTO:+1100
TZNAME:AEDT
DTSTART:20251004T160000
END:DAYLIGHT
BEGIN:STANDARD
TZOFFSETFROM:+1100
TZOFFSETTO:+1000
TZNAME:AEST
DTSTART:20260404T160000
END:STANDARD
BEGIN:DAYLIGHT
TZOFFSETFROM:+1000
TZOFFSETTO:+1100
TZNAME:AEDT
DTSTART:20261003T160000
END:DAYLIGHT
END:VTIMEZONE
BEGIN:VEVENT
DTSTART;TZID=Australia/Hobart:20250527T160000
DTEND;TZID=Australia/Hobart:20250527T160000
DTSTAMP:20260424T020241
CREATED:20250505T042415Z
LAST-MODIFIED:20250506T004944Z
UID:78399-1748361600-1748361600@www.angusaustralia.com.au
SUMMARY:Notice of Angus Australia Annual General Meeting
DESCRIPTION:4:00pm (AEST) Tuesday 27th May 2025 \n  \nHotel Grand Chancellor  \n29 Cameron St\, Launceston TAS 7250 \nand via Zoom video/teleconference \n  \nFOR MORE INFORMATION CLICK HERE
URL:https://www.angusaustralia.com.au/event/notice-of-angus-australia-annual-general-meeting
LOCATION:Hotel Grand Chancellor\, 29 Cameron St\, Launceston\, TAS\, 7250\, Australia
ATTACH;FMTTYPE=image/jpeg:https://www.angusaustralia.com.au/content/uploads/2025/05/Angus-AGM_Social-graphics-06_05_2025.jpg
ORGANIZER;CN="Kathryn Duddy":MAILTO:kathryn.duddy@angusaustralia.com.au
END:VEVENT
END:VCALENDAR