BEGIN:VCALENDAR
VERSION:2.0
PRODID:-//Angus Australia - ECPv6.15.17//NONSGML v1.0//EN
CALSCALE:GREGORIAN
METHOD:PUBLISH
X-ORIGINAL-URL:https://www.angusaustralia.com.au
X-WR-CALDESC:Events for Angus Australia
REFRESH-INTERVAL;VALUE=DURATION:PT1H
X-Robots-Tag:noindex
X-PUBLISHED-TTL:PT1H
BEGIN:VTIMEZONE
TZID:Australia/Sydney
BEGIN:STANDARD
TZOFFSETFROM:+1100
TZOFFSETTO:+1000
TZNAME:AEST
DTSTART:20240406T160000
END:STANDARD
BEGIN:DAYLIGHT
TZOFFSETFROM:+1000
TZOFFSETTO:+1100
TZNAME:AEDT
DTSTART:20241005T160000
END:DAYLIGHT
BEGIN:STANDARD
TZOFFSETFROM:+1100
TZOFFSETTO:+1000
TZNAME:AEST
DTSTART:20250405T160000
END:STANDARD
BEGIN:DAYLIGHT
TZOFFSETFROM:+1000
TZOFFSETTO:+1100
TZNAME:AEDT
DTSTART:20251004T160000
END:DAYLIGHT
BEGIN:STANDARD
TZOFFSETFROM:+1100
TZOFFSETTO:+1000
TZNAME:AEST
DTSTART:20260404T160000
END:STANDARD
BEGIN:DAYLIGHT
TZOFFSETFROM:+1000
TZOFFSETTO:+1100
TZNAME:AEDT
DTSTART:20261003T160000
END:DAYLIGHT
END:VTIMEZONE
BEGIN:VEVENT
DTSTART;TZID=Australia/Sydney:20250619T110000
DTEND;TZID=Australia/Sydney:20250619T110000
DTSTAMP:20260426T110113
CREATED:20250429T055800Z
LAST-MODIFIED:20250429T055818Z
UID:78319-1750330800-1750330800@www.angusaustralia.com.au
SUMMARY:Medlyn Angus 2025 Bull Sale
DESCRIPTION:
URL:https://www.angusaustralia.com.au/event/medlyn-angus-2025-bull-sale
LOCATION:Casino Primex Selling Complex\, Casino Primex Selling Complex\, Rous Ln\, Bruxner Highway\, Casino\, NSW\, 2470\, Australia
ORGANIZER;CN="John Gibson":MAILTO:medlyn5@bigpond.com
END:VEVENT
BEGIN:VEVENT
DTSTART;TZID=Australia/Sydney:20250619T110000
DTEND;TZID=Australia/Sydney:20250619T150000
DTSTAMP:20260426T110113
CREATED:20250513T023617Z
LAST-MODIFIED:20250513T023754Z
UID:78578-1750330800-1750345200@www.angusaustralia.com.au
SUMMARY:DSK Angus 2025 Open Day\, Bull Inspection
DESCRIPTION:
URL:https://www.angusaustralia.com.au/event/dsk-angus-2025-open-day-bull-inspection
LOCATION:Borah Station Sale Shed\, 1220 Borah Creek Road\, ROCKY GLEN\, NSW\, Australia
ORGANIZER;CN="Chris Knox & Helen Alexander":MAILTO:info@dskangusandcharolais.com.au
END:VEVENT
END:VCALENDAR