BEGIN:VCALENDAR
VERSION:2.0
PRODID:-//Angus Australia - ECPv6.15.17//NONSGML v1.0//EN
CALSCALE:GREGORIAN
METHOD:PUBLISH
X-ORIGINAL-URL:https://www.angusaustralia.com.au
X-WR-CALDESC:Events for Angus Australia
REFRESH-INTERVAL;VALUE=DURATION:PT1H
X-Robots-Tag:noindex
X-PUBLISHED-TTL:PT1H
BEGIN:VTIMEZONE
TZID:Australia/Sydney
BEGIN:STANDARD
TZOFFSETFROM:+1100
TZOFFSETTO:+1000
TZNAME:AEST
DTSTART:20240406T160000
END:STANDARD
BEGIN:DAYLIGHT
TZOFFSETFROM:+1000
TZOFFSETTO:+1100
TZNAME:AEDT
DTSTART:20241005T160000
END:DAYLIGHT
BEGIN:STANDARD
TZOFFSETFROM:+1100
TZOFFSETTO:+1000
TZNAME:AEST
DTSTART:20250405T160000
END:STANDARD
BEGIN:DAYLIGHT
TZOFFSETFROM:+1000
TZOFFSETTO:+1100
TZNAME:AEDT
DTSTART:20251004T160000
END:DAYLIGHT
BEGIN:STANDARD
TZOFFSETFROM:+1100
TZOFFSETTO:+1000
TZNAME:AEST
DTSTART:20260404T160000
END:STANDARD
BEGIN:DAYLIGHT
TZOFFSETFROM:+1000
TZOFFSETTO:+1100
TZNAME:AEDT
DTSTART:20261003T160000
END:DAYLIGHT
END:VTIMEZONE
BEGIN:VEVENT
DTSTART;TZID=Australia/Sydney:20250805T130000
DTEND;TZID=Australia/Sydney:20250805T130000
DTSTAMP:20260426T092138
CREATED:20201020T010349Z
LAST-MODIFIED:20250616T050801Z
UID:3380-1754398800-1754398800@www.angusaustralia.com.au
SUMMARY:Bald Blair Angus Bull Sale
DESCRIPTION:      \nTo view online catalogue- CLICK HERE
URL:https://www.angusaustralia.com.au/event/bald-blair-angus-bull-sale-5
LOCATION:Bald Blair\, Bald Blair Angus\, 6486 Guyra-Ebor Rd\, Guyra\, NSW\, 2365\, Australia
ORGANIZER;CN="Sam & Kirsty White":MAILTO:samwhite@baldblair.com.au
END:VEVENT
BEGIN:VEVENT
DTSTART;TZID=Australia/Sydney:20250805T130000
DTEND;TZID=Australia/Sydney:20250805T130000
DTSTAMP:20260426T092138
CREATED:20250331T014003Z
LAST-MODIFIED:20250530T025929Z
UID:77844-1754398800-1754398800@www.angusaustralia.com.au
SUMMARY:Glenoch Angus and NB Genetics Bull Sale 2025
DESCRIPTION:On-Property & Online AuctionsPlus Sale. \n \nContacts: \nRoger Boshammer \n0427 132 094 \nroger@glenoch.com.au \nwww.bullsthatwork.com.au \n  \nNick Boshammer \n0428 655 128 \nnbgenetics@gmail.com \nwww.nbgen.com.au \n\n\n\nOur Address\n\n\n\n\nGlenoch\, 416 Burra Burri Creek Road\, Chinchilla\, Queensland\, Australia \n\n\n\n\n\n\n\n\nNote: Avoid using GPS for directions to Glenoch\, as it tends to be unreliable.
URL:https://www.angusaustralia.com.au/event/glenoch-angus-and-nb-genetics-bull-sale-2025
LOCATION:On Property – “Glenoch”\, 416 Burra Burri Creek Rd\,\, Pelican\, QLD\, 4413\, Australia
ORGANIZER;CN="Roger and Tam Boshammer":MAILTO:roger@glenoch.com.au
END:VEVENT
END:VCALENDAR