BEGIN:VCALENDAR
VERSION:2.0
PRODID:-//Angus Australia - ECPv6.15.17//NONSGML v1.0//EN
CALSCALE:GREGORIAN
METHOD:PUBLISH
X-WR-CALNAME:Angus Australia
X-ORIGINAL-URL:https://www.angusaustralia.com.au
X-WR-CALDESC:Events for Angus Australia
REFRESH-INTERVAL;VALUE=DURATION:PT1H
X-Robots-Tag:noindex
X-PUBLISHED-TTL:PT1H
BEGIN:VTIMEZONE
TZID:Australia/Sydney
BEGIN:STANDARD
TZOFFSETFROM:+1100
TZOFFSETTO:+1000
TZNAME:AEST
DTSTART:20240406T160000
END:STANDARD
BEGIN:DAYLIGHT
TZOFFSETFROM:+1000
TZOFFSETTO:+1100
TZNAME:AEDT
DTSTART:20241005T160000
END:DAYLIGHT
BEGIN:STANDARD
TZOFFSETFROM:+1100
TZOFFSETTO:+1000
TZNAME:AEST
DTSTART:20250405T160000
END:STANDARD
BEGIN:DAYLIGHT
TZOFFSETFROM:+1000
TZOFFSETTO:+1100
TZNAME:AEDT
DTSTART:20251004T160000
END:DAYLIGHT
BEGIN:STANDARD
TZOFFSETFROM:+1100
TZOFFSETTO:+1000
TZNAME:AEST
DTSTART:20260404T160000
END:STANDARD
BEGIN:DAYLIGHT
TZOFFSETFROM:+1000
TZOFFSETTO:+1100
TZNAME:AEDT
DTSTART:20261003T160000
END:DAYLIGHT
END:VTIMEZONE
BEGIN:VEVENT
DTSTART;TZID=Australia/Sydney:20250813T130000
DTEND;TZID=Australia/Sydney:20250813T130000
DTSTAMP:20260426T105845
CREATED:20250116T054508Z
LAST-MODIFIED:20250716T051836Z
UID:76372-1755090000-1755090000@www.angusaustralia.com.au
SUMMARY:Outwest Angus 13th on Property Sale
DESCRIPTION:60 Parentage Assured bulls \nTo view online catalogue – CLICK HERE
URL:https://www.angusaustralia.com.au/event/outwest-angus-13th-on-property-sale
LOCATION:Wombalano\, 346 Warrabah Road\, Coonamble\, NSW\, 2829\, Australia
ORGANIZER;CN="Ewen & Marg Mcleish":MAILTO:outwestangus@bigpond.com
END:VEVENT
BEGIN:VEVENT
DTSTART;TZID=Australia/Sydney:20250813T130000
DTEND;TZID=Australia/Sydney:20250813T130000
DTSTAMP:20260426T105845
CREATED:20250324T034130Z
LAST-MODIFIED:20250630T041755Z
UID:77723-1755090000-1755090000@www.angusaustralia.com.au
SUMMARY:Hazeldean New England 2025 Bull Sale
DESCRIPTION:Bective Station\n2684 Oxley Highway\nBective\, NSW\, 2340 \n  \nTo view online catalogue – CLICK HERE
URL:https://www.angusaustralia.com.au/event/hazeldean-new-england-2025-bull-sale
LOCATION:Hazeldean – NSW\, 2684 Oxley Highway\, Bective\, NSW\, 2340\, Australia
ORGANIZER;CN="Ed Bradley":MAILTO:edbradley@hazeldean.com.au
END:VEVENT
END:VCALENDAR