BEGIN:VCALENDAR
VERSION:2.0
PRODID:-//Angus Australia - ECPv6.15.17//NONSGML v1.0//EN
CALSCALE:GREGORIAN
METHOD:PUBLISH
X-WR-CALNAME:Angus Australia
X-ORIGINAL-URL:https://www.angusaustralia.com.au
X-WR-CALDESC:Events for Angus Australia
REFRESH-INTERVAL;VALUE=DURATION:PT1H
X-Robots-Tag:noindex
X-PUBLISHED-TTL:PT1H
BEGIN:VTIMEZONE
TZID:Australia/Sydney
BEGIN:STANDARD
TZOFFSETFROM:+1100
TZOFFSETTO:+1000
TZNAME:AEST
DTSTART:20250405T160000
END:STANDARD
BEGIN:DAYLIGHT
TZOFFSETFROM:+1000
TZOFFSETTO:+1100
TZNAME:AEDT
DTSTART:20251004T160000
END:DAYLIGHT
BEGIN:STANDARD
TZOFFSETFROM:+1100
TZOFFSETTO:+1000
TZNAME:AEST
DTSTART:20260404T160000
END:STANDARD
BEGIN:DAYLIGHT
TZOFFSETFROM:+1000
TZOFFSETTO:+1100
TZNAME:AEDT
DTSTART:20261003T160000
END:DAYLIGHT
BEGIN:STANDARD
TZOFFSETFROM:+1100
TZOFFSETTO:+1000
TZNAME:AEST
DTSTART:20270403T160000
END:STANDARD
BEGIN:DAYLIGHT
TZOFFSETFROM:+1000
TZOFFSETTO:+1100
TZNAME:AEDT
DTSTART:20271002T160000
END:DAYLIGHT
END:VTIMEZONE
BEGIN:VEVENT
DTSTART;TZID=Australia/Sydney:20260730T103000
DTEND;TZID=Australia/Sydney:20260730T103000
DTSTAMP:20260426T075338
CREATED:20260204T214230Z
LAST-MODIFIED:20260204T214230Z
UID:83884-1785407400-1785407400@www.angusaustralia.com.au
SUMMARY:Bunya Creek Angus Bull Sale
DESCRIPTION:
URL:https://www.angusaustralia.com.au/event/bunya-creek-angus-bull-sale
LOCATION:Valorbrook Sale Complex\, 530 Markhams Hill Rd\, Bell\, QLD\, 4720\, Australia
ORGANIZER;CN="Donald Patch":MAILTO:bunyacreekangus@gmail.com
END:VEVENT
BEGIN:VEVENT
DTSTART;TZID=Australia/Sydney:20260730T120000
DTEND;TZID=Australia/Sydney:20260730T120000
DTSTAMP:20260426T075338
CREATED:20251121T055450Z
LAST-MODIFIED:20251121T055724Z
UID:82502-1785412800-1785412800@www.angusaustralia.com.au
SUMMARY:Texas Angus 58th Bull Sale
DESCRIPTION:
URL:https://www.angusaustralia.com.au/event/texas-angus-58th-bull-sale
LOCATION:Doongara\, North Star Road\, Warialda\, NSW\, 2402\, Australia
ORGANIZER;CN="Ben & Wendy Mayne":MAILTO:texasangus2@bigpond.com
END:VEVENT
END:VCALENDAR