BEGIN:VCALENDAR
VERSION:2.0
PRODID:-//Angus Australia - ECPv6.15.17//NONSGML v1.0//EN
CALSCALE:GREGORIAN
METHOD:PUBLISH
X-ORIGINAL-URL:https://www.angusaustralia.com.au
X-WR-CALDESC:Events for Angus Australia
REFRESH-INTERVAL;VALUE=DURATION:PT1H
X-Robots-Tag:noindex
X-PUBLISHED-TTL:PT1H
BEGIN:VTIMEZONE
TZID:Australia/Sydney
BEGIN:STANDARD
TZOFFSETFROM:+1100
TZOFFSETTO:+1000
TZNAME:AEST
DTSTART:20250405T160000
END:STANDARD
BEGIN:DAYLIGHT
TZOFFSETFROM:+1000
TZOFFSETTO:+1100
TZNAME:AEDT
DTSTART:20251004T160000
END:DAYLIGHT
BEGIN:STANDARD
TZOFFSETFROM:+1100
TZOFFSETTO:+1000
TZNAME:AEST
DTSTART:20260404T160000
END:STANDARD
BEGIN:DAYLIGHT
TZOFFSETFROM:+1000
TZOFFSETTO:+1100
TZNAME:AEDT
DTSTART:20261003T160000
END:DAYLIGHT
BEGIN:STANDARD
TZOFFSETFROM:+1100
TZOFFSETTO:+1000
TZNAME:AEST
DTSTART:20270403T160000
END:STANDARD
BEGIN:DAYLIGHT
TZOFFSETFROM:+1000
TZOFFSETTO:+1100
TZNAME:AEDT
DTSTART:20271002T160000
END:DAYLIGHT
END:VTIMEZONE
BEGIN:VTIMEZONE
TZID:Pacific/Auckland
BEGIN:STANDARD
TZOFFSETFROM:+1300
TZOFFSETTO:+1200
TZNAME:NZST
DTSTART:20250405T140000
END:STANDARD
BEGIN:DAYLIGHT
TZOFFSETFROM:+1200
TZOFFSETTO:+1300
TZNAME:NZDT
DTSTART:20250927T140000
END:DAYLIGHT
BEGIN:STANDARD
TZOFFSETFROM:+1300
TZOFFSETTO:+1200
TZNAME:NZST
DTSTART:20260404T140000
END:STANDARD
BEGIN:DAYLIGHT
TZOFFSETFROM:+1200
TZOFFSETTO:+1300
TZNAME:NZDT
DTSTART:20260926T140000
END:DAYLIGHT
BEGIN:STANDARD
TZOFFSETFROM:+1300
TZOFFSETTO:+1200
TZNAME:NZST
DTSTART:20270403T140000
END:STANDARD
BEGIN:DAYLIGHT
TZOFFSETFROM:+1200
TZOFFSETTO:+1300
TZNAME:NZDT
DTSTART:20270925T140000
END:DAYLIGHT
END:VTIMEZONE
BEGIN:VEVENT
DTSTART;TZID=Australia/Sydney:20260520T130000
DTEND;TZID=Australia/Sydney:20260520T130000
DTSTAMP:20260421T062124
CREATED:20260323T050155Z
LAST-MODIFIED:20260323T050214Z
UID:84453-1779282000-1779282000@www.angusaustralia.com.au
SUMMARY:Dulverton Angus Bull Sale
DESCRIPTION:To view online catalogue- CLICK HERE
URL:https://www.angusaustralia.com.au/event/dulverton-angus-bull-sale-3
LOCATION:Dulverton\, Shannon Vale Station\, Dulverton Angus 1241 Shannon Vale Road\, Glen Innes\, NSW\, Australia
ORGANIZER;CN="Greg & Sally Chappell":MAILTO:dulverton1@bigpond.com
END:VEVENT
BEGIN:VEVENT
DTSTART;TZID=Australia/Sydney:20260521T130000
DTEND;TZID=Australia/Sydney:20260521T130000
DTSTAMP:20260421T062124
CREATED:20260309T032955Z
LAST-MODIFIED:20260309T033452Z
UID:84292-1779368400-1779368400@www.angusaustralia.com.au
SUMMARY:Wattletop Livestock Annual on Property Angus Bull Sale
DESCRIPTION:Interfaced with Auctionsplus \nWebsite- CLICK HERE
URL:https://www.angusaustralia.com.au/event/wattletop-livestock-annual-on-property-angus-bull-sale
LOCATION:On Property- Wattletop\, 5814 Guyra Rd\, GUYRA\, NSW\, 2365\, Australia
ORGANIZER;CN="Jess MacDougall":MAILTO:jess@wattletop.com.au
END:VEVENT
BEGIN:VEVENT
DTSTART;TZID=Australia/Sydney:20260521T130000
DTEND;TZID=Australia/Sydney:20260521T130000
DTSTAMP:20260421T062124
CREATED:20260331T054130Z
LAST-MODIFIED:20260331T055012Z
UID:84564-1779368400-1779368400@www.angusaustralia.com.au
SUMMARY:Wattletop Livestock Annual Sale
DESCRIPTION:To view online catalogue –CLICK HERE
URL:https://www.angusaustralia.com.au/event/wattletop-livestock-annual-sale
LOCATION:On Property- Wattletop\, 5814 Guyra Rd\, GUYRA\, NSW\, 2365\, Australia
ORGANIZER;CN="Jess MacDougall":MAILTO:jess@wattletop.com.au
END:VEVENT
BEGIN:VEVENT
DTSTART;TZID=Australia/Sydney:20260522T130000
DTEND;TZID=Australia/Sydney:20260522T130000
DTSTAMP:20260421T062124
CREATED:20250602T045943Z
LAST-MODIFIED:20250602T050023Z
UID:78949-1779454800-1779454800@www.angusaustralia.com.au
SUMMARY:Speriby North Angus 2026 Sale
DESCRIPTION:  \nContact: \nArthur and Sandra Cox 02 6737 3655 or mobile 0427373 655.
URL:https://www.angusaustralia.com.au/event/speriby-north-angus-2026-sale
LOCATION:Speriby North Pty Ltd\, 1080 Mount Spirabo Road\, Bolivia via TENTERFIELD\, NSW\, 2372\, Australia
ORGANIZER;CN="Arthur Cox":MAILTO:speribynorth@bigpond.com
END:VEVENT
BEGIN:VEVENT
DTSTART;TZID=Australia/Sydney:20260522T130000
DTEND;TZID=Australia/Sydney:20260522T130000
DTSTAMP:20260421T062124
CREATED:20260420T045123Z
LAST-MODIFIED:20260420T045242Z
UID:84843-1779454800-1779454800@www.angusaustralia.com.au
SUMMARY:Speriby North Bull Sale
DESCRIPTION:To view online catalogue- CLICK HERE
URL:https://www.angusaustralia.com.au/event/speriby-north-bull-sale-2
LOCATION:‘Wallies’\, 1080 Mount Spirabo Rd\, Bolivia via Tenterfield\, NSW\, 2372\, Australia
ORGANIZER;CN="Arthur Cox":MAILTO:speribynorth@bigpond.com
END:VEVENT
BEGIN:VEVENT
DTSTART;TZID=Australia/Sydney:20260525T130000
DTEND;TZID=Australia/Sydney:20260525T130000
DTSTAMP:20260421T062124
CREATED:20260420T050218Z
LAST-MODIFIED:20260420T050442Z
UID:84848-1779714000-1779714000@www.angusaustralia.com.au
SUMMARY:Waitangi Angus Sale
DESCRIPTION:To view online catalogue- CLICK HERE
URL:https://www.angusaustralia.com.au/event/waitangi-angus-sale
LOCATION:Waitangi Angus\, 98 Bayly Road\, Waitangi\, 0247
ORGANIZER;CN="John Bayly":MAILTO:jbayly@xtra.co.nz
END:VEVENT
BEGIN:VEVENT
DTSTART;TZID=Australia/Sydney:20260527T170000
DTEND;TZID=Australia/Sydney:20260527T170000
DTSTAMP:20260421T062124
CREATED:20260420T051239Z
LAST-MODIFIED:20260420T051328Z
UID:84851-1779901200-1779901200@www.angusaustralia.com.au
SUMMARY:PJ Cattle Co Sale
DESCRIPTION:To view online catalogue- CLICK HERE
URL:https://www.angusaustralia.com.au/event/pj-cattle-co-sale
LOCATION:Online\, AuctionsPlus
ORGANIZER;CN="Philip  McLauclan":MAILTO:pjcattleco@bigpond.com
END:VEVENT
BEGIN:VEVENT
DTSTART;VALUE=DATE:20260528
DTEND;VALUE=DATE:20260529
DTSTAMP:20260421T062124
CREATED:20251202T012045Z
LAST-MODIFIED:20251202T012057Z
UID:82729-1779926400-1780012799@www.angusaustralia.com.au
SUMMARY:Mid June TACE Submission Deadline – Animal Registration & Structural Scores
DESCRIPTION:All submissions must be received by Angus Australia before 5pm on the submission deadline for guaranteed inclusion in the analysis.
URL:https://www.angusaustralia.com.au/event/mid-june-tace-submission-deadline-animal-registration-structural-scores-2
LOCATION:SA
END:VEVENT
BEGIN:VEVENT
DTSTART;TZID=Pacific/Auckland:20260529T130000
DTEND;TZID=Pacific/Auckland:20260529T130000
DTSTAMP:20260421T062124
CREATED:20260302T012743Z
LAST-MODIFIED:20260302T012908Z
UID:84217-1780059600-1780059600@www.angusaustralia.com.au
SUMMARY:Mount Linton Station 2 year bull sale
DESCRIPTION:
URL:https://www.angusaustralia.com.au/event/mount-linton-station2-year-bull-sale
LOCATION:Mount Linton Station\, 309 Mount Linton Road RD1\, Otautau\, New Zealand
END:VEVENT
BEGIN:VEVENT
DTSTART;TZID=Pacific/Auckland:20260529T130000
DTEND;TZID=Pacific/Auckland:20260529T130000
DTSTAMP:20260421T062124
CREATED:20260420T044014Z
LAST-MODIFIED:20260420T044241Z
UID:84841-1780059600-1780059600@www.angusaustralia.com.au
SUMMARY:Mount Linton Rising 2 Year Old
DESCRIPTION:Sale by auction- hybrid: onsite and bidr \nTo view online catalogue – CLICK HERE
URL:https://www.angusaustralia.com.au/event/mount-linton-rising-2-year-old
LOCATION:On Property\, ‘Mount Linton’\, Ohai\, RD1 Otautau\, NZ
END:VEVENT
BEGIN:VEVENT
DTSTART;TZID=Australia/Sydney:20260529T130000
DTEND;TZID=Australia/Sydney:20260529T130000
DTSTAMP:20260421T062124
CREATED:20260420T052046Z
LAST-MODIFIED:20260420T052148Z
UID:84856-1780059600-1780059600@www.angusaustralia.com.au
SUMMARY:ALUMY CREEK ANGUS 2026 BULL SALE
DESCRIPTION:To view online catalogue- CLICK HERE
URL:https://www.angusaustralia.com.au/event/alumy-creek-angus-2026-bull-sale
LOCATION:On Property – Alumy Creek\, "Coldawinda" 420 Scrub Road\, Tenterfield\, NSW\, Australia
ORGANIZER;CN="Colin Keevers & Lisa Martin":MAILTO:admin@alumycreekangus.com.au
END:VEVENT
BEGIN:VEVENT
DTSTART;VALUE=DATE:20260531
DTEND;VALUE=DATE:20260601
DTSTAMP:20260421T062124
CREATED:20260318T215821Z
LAST-MODIFIED:20260318T215846Z
UID:84392-1780185600-1780271999@www.angusaustralia.com.au
SUMMARY:2026 Female Inventory - Autumn Inventory Fees for Autumn Due
DESCRIPTION:Inventory fees for Autumn calving females.  Late Inventory fees will be charged for members who have not paid their Autumn Inventory Invoice
URL:https://www.angusaustralia.com.au/event/2026-female-inventory-inventory-fees-for-autumn-due
LOCATION:SA
END:VEVENT
BEGIN:VEVENT
DTSTART;VALUE=DATE:20260602
DTEND;VALUE=DATE:20260603
DTSTAMP:20260421T062124
CREATED:20251202T012141Z
LAST-MODIFIED:20251202T012154Z
UID:82731-1780358400-1780444799@www.angusaustralia.com.au
SUMMARY:Mid June TACE Submission Deadline – Performance Data
DESCRIPTION:All submissions must be received by Angus Australia before 5pm on the submission deadline for guaranteed inclusion in the analysis.
URL:https://www.angusaustralia.com.au/event/mid-june-tace-submission-deadline-performance-data-2
LOCATION:SA
END:VEVENT
BEGIN:VEVENT
DTSTART;TZID=Australia/Sydney:20260603T130000
DTEND;TZID=Australia/Sydney:20260603T130000
DTSTAMP:20260421T062124
CREATED:20260407T045303Z
LAST-MODIFIED:20260407T045317Z
UID:84658-1780491600-1780491600@www.angusaustralia.com.au
SUMMARY:Storth Oaks Annual R2 Bull Sale
DESCRIPTION:To view online catalogue- CLICK HERE
URL:https://www.angusaustralia.com.au/event/storth-oaks-annual-r2-bull-sale
LOCATION:On Property- Storth Oaks\, 524 Paewhenua Rd\, RD2\, Otorohanga\, 3972\, New Zealand
ORGANIZER;CN="Tim Brittain":MAILTO:tim@storthoaks.co.nz
END:VEVENT
BEGIN:VEVENT
DTSTART;TZID=Pacific/Auckland:20260604T150000
DTEND;TZID=Pacific/Auckland:20260604T150000
DTSTAMP:20260421T062124
CREATED:20260420T045656Z
LAST-MODIFIED:20260420T045735Z
UID:84845-1780585200-1780585200@www.angusaustralia.com.au
SUMMARY:Ranui Angus Sale
DESCRIPTION:To view online catalogue- CLICK HERE
URL:https://www.angusaustralia.com.au/event/ranui-angus-sale
LOCATION:Karamu\, Karamu\, Kai Iwi\, New Zealand
ORGANIZER;CN="Maria and Lindsay Johnstone":MAILTO:ranui.w@farmside.co.nz
END:VEVENT
BEGIN:VEVENT
DTSTART;TZID=Pacific/Auckland:20260605T113000
DTEND;TZID=Pacific/Auckland:20260605T113000
DTSTAMP:20260421T062124
CREATED:20260420T043542Z
LAST-MODIFIED:20260420T043557Z
UID:84839-1780659000-1780659000@www.angusaustralia.com.au
SUMMARY:Totaranui Angus Sale
DESCRIPTION:To view online catalogue- CLICK HERE
URL:https://www.angusaustralia.com.au/event/totaranui-angus-sale
LOCATION:Totaranui Angus\, 82318 SH2\, Pahiatua\, Manawatū-Whanganui\, 4910\, New Zealand
ORGANIZER;CN="Daimien Reynolds and Tally Jackson":MAILTO:bulls@totaranuistud.co.nz
END:VEVENT
BEGIN:VEVENT
DTSTART;TZID=Pacific/Auckland:20260605T130000
DTEND;TZID=Pacific/Auckland:20260605T130000
DTSTAMP:20260421T062124
CREATED:20260420T051644Z
LAST-MODIFIED:20260420T051738Z
UID:84854-1780664400-1780664400@www.angusaustralia.com.au
SUMMARY:TWIN OAKS ANGUS TWO YEAR OLD BULL SALE
DESCRIPTION:To view online catalogue- CLICK HERE
URL:https://www.angusaustralia.com.au/event/twin-oaks-angus-two-year-old-bull-sale
LOCATION:On farm Waipapa Station. Te Akau\, Waipapa Station\, 163a Clemett Road\, Te Akau\, New Zealand
ORGANIZER;CN="Roger & Susan Hayward":MAILTO:twinoaksangus@gmail.com
END:VEVENT
BEGIN:VEVENT
DTSTART;TZID=Pacific/Auckland:20260605T133000
DTEND;TZID=Pacific/Auckland:20260605T133000
DTSTAMP:20260421T062124
CREATED:20260302T040737Z
LAST-MODIFIED:20260302T040751Z
UID:84251-1780666200-1780666200@www.angusaustralia.com.au
SUMMARY:Totaranui Angus 2 Year Bull Sale 2026
DESCRIPTION:
URL:https://www.angusaustralia.com.au/event/totaranui-angus-2-year-bull-sale-2026
LOCATION:—\, 82318 State Highway 2\, Pahiatua\, New Zealand
ORGANIZER;CN="Jason Loader":MAILTO:bulls@totaranuistud.co.nz
END:VEVENT
BEGIN:VEVENT
DTSTART;VALUE=DATE:20260611
DTEND;VALUE=DATE:20260612
DTSTAMP:20260421T062124
CREATED:20251201T232032Z
LAST-MODIFIED:20251202T004525Z
UID:82664-1781136000-1781222399@www.angusaustralia.com.au
SUMMARY:July TACE Submission Deadline – Animal Registration and Structural Data
DESCRIPTION:All submissions must be received by Angus Australia before 5pm on the submission deadline for guaranteed inclusion in the analysis.
URL:https://www.angusaustralia.com.au/event/july-tace-submission-deadline-animal-registrations
LOCATION:SA
END:VEVENT
BEGIN:VEVENT
DTSTART;VALUE=DATE:20260616
DTEND;VALUE=DATE:20260617
DTSTAMP:20260421T062124
CREATED:20251201T232418Z
LAST-MODIFIED:20251202T004803Z
UID:82668-1781568000-1781654399@www.angusaustralia.com.au
SUMMARY:July TACE Submission Deadline – Performance Data
DESCRIPTION:All submissions must be received by Angus Australia before 5pm on the submission deadline for guaranteed inclusion in the analysis.
URL:https://www.angusaustralia.com.au/event/july-tace-submission-deadline-performance-data-2
LOCATION:SA
END:VEVENT
BEGIN:VEVENT
DTSTART;TZID=Australia/Sydney:20260618T103000
DTEND;TZID=Australia/Sydney:20260618T150000
DTSTAMP:20260421T062124
CREATED:20251111T005404Z
LAST-MODIFIED:20251111T005428Z
UID:82330-1781778600-1781794800@www.angusaustralia.com.au
SUMMARY:Peakes - Bowen Open day 2026
DESCRIPTION:110 Peakes Bowen Angus Bulls on display
URL:https://www.angusaustralia.com.au/event/peakes-bowen-open-day-2026
LOCATION:On Property- Bowen\, 601 The Forest Rd\, Barraba\, NSW\, 2347\, Australia
ORGANIZER;CN="Stephen & Jodi Peake":MAILTO:admin@bowenstud.com.au
END:VEVENT
BEGIN:VEVENT
DTSTART;VALUE=DATE:20260625
DTEND;VALUE=DATE:20260626
DTSTAMP:20260421T062124
CREATED:20251202T012242Z
LAST-MODIFIED:20251202T012254Z
UID:82733-1782345600-1782431999@www.angusaustralia.com.au
SUMMARY:Mid July TACE Submission Deadline – Animal Registration & Structural Scores
DESCRIPTION:All submissions must be received by Angus Australia before 5pm on the submission deadline for guaranteed inclusion in the analysis.
URL:https://www.angusaustralia.com.au/event/mid-july-tace-submission-deadline-animal-registration-structural-scores-2
LOCATION:SA
END:VEVENT
BEGIN:VEVENT
DTSTART;TZID=Australia/Sydney:20260625T100000
DTEND;TZID=Australia/Sydney:20260625T160000
DTSTAMP:20260421T062124
CREATED:20260105T223415Z
LAST-MODIFIED:20260105T223415Z
UID:83197-1782381600-1782403200@www.angusaustralia.com.au
SUMMARY:Booragul Open Day
DESCRIPTION:
URL:https://www.angusaustralia.com.au/event/booragul-open-day
LOCATION:Downfield\, 36 Oakley Creek Road\, Piallaway\, NSW\, 2342\, Australia
ORGANIZER;CN="Tim Vincent":MAILTO:booragulangus@bigpond.com
END:VEVENT
BEGIN:VEVENT
DTSTART;VALUE=DATE:20260630
DTEND;VALUE=DATE:20260701
DTSTAMP:20260421T062124
CREATED:20251202T012413Z
LAST-MODIFIED:20251202T012440Z
UID:82735-1782777600-1782863999@www.angusaustralia.com.au
SUMMARY:Mid July TACE Submission Deadline – Performance Data
DESCRIPTION:All submissions must be received by Angus Australia before 5pm on the submission deadline for guaranteed inclusion in the analysis.
URL:https://www.angusaustralia.com.au/event/mid-july-tace-submission-deadline-performance-data-2
LOCATION:SA
END:VEVENT
BEGIN:VEVENT
DTSTART;TZID=Australia/Sydney:20260708T100000
DTEND;TZID=Australia/Sydney:20260708T150000
DTSTAMP:20260421T062124
CREATED:20260105T221354Z
LAST-MODIFIED:20260106T022044Z
UID:83191-1783504800-1783522800@www.angusaustralia.com.au
SUMMARY:Inglebrae Farms Angus Open Day
DESCRIPTION:
URL:https://www.angusaustralia.com.au/event/inglebrae-farms-angus-open-day-2
LOCATION:Inglebrae Farms\, 1221 Bruxner Highway\, Tenterfield\, NSW\, 2372\, Australia
ORGANIZER;CN="Darren Battistuzzi":MAILTO:darren.inglebraefarms@jpfamilygroup.com.au
END:VEVENT
BEGIN:VEVENT
DTSTART;VALUE=DATE:20260709
DTEND;VALUE=DATE:20260710
DTSTAMP:20260421T062124
CREATED:20251201T233331Z
LAST-MODIFIED:20251202T004908Z
UID:82670-1783555200-1783641599@www.angusaustralia.com.au
SUMMARY:August TACE Submission Deadline – Animal Registration and Structural Data
DESCRIPTION:All submissions must be received by Angus Australia before 5pm on the submission deadline for guaranteed inclusion in the analysis.
URL:https://www.angusaustralia.com.au/event/august-tace-submission-deadline-animal-registrations
LOCATION:SA
END:VEVENT
BEGIN:VEVENT
DTSTART;TZID=Australia/Sydney:20260709T090000
DTEND;TZID=Australia/Sydney:20260709T160000
DTSTAMP:20260421T062124
CREATED:20260408T230759Z
LAST-MODIFIED:20260408T230759Z
UID:84695-1783587600-1783612800@www.angusaustralia.com.au
SUMMARY:Texas Angus Nothin’ But Beef Day
DESCRIPTION:
URL:https://www.angusaustralia.com.au/event/texas-angus-nothin-but-beef-day
LOCATION:Doongara\, North Star Road\, Warialda\, NSW\, 2402\, Australia
END:VEVENT
BEGIN:VEVENT
DTSTART;TZID=Australia/Sydney:20260709T130000
DTEND;TZID=Australia/Sydney:20260709T130000
DTSTAMP:20260421T062124
CREATED:20260105T221917Z
LAST-MODIFIED:20260105T222330Z
UID:83195-1783602000-1783602000@www.angusaustralia.com.au
SUMMARY:Booragul Angus Bull Sale
DESCRIPTION:80 Bulls
URL:https://www.angusaustralia.com.au/event/booragul-angus-bull-sale-4
LOCATION:Downfield\, 36 Oakley Creek Road\, Piallaway\, NSW\, 2342\, Australia
ORGANIZER;CN="Tim Vincent":MAILTO:booragulangus@bigpond.com
END:VEVENT
BEGIN:VEVENT
DTSTART;TZID=Australia/Sydney:20260710T100000
DTEND;TZID=Australia/Sydney:20260710T140000
DTSTAMP:20260421T062124
CREATED:20251204T014137Z
LAST-MODIFIED:20251204T025403Z
UID:82831-1783677600-1783692000@www.angusaustralia.com.au
SUMMARY:Bridgewater Angus Open Day
DESCRIPTION:
URL:https://www.angusaustralia.com.au/event/bridgewater-angus-open-day-4
LOCATION:On Property- Bridgewater\, Myola 278 Toms Gully Road\, Black Mountain\, NSW\, Australia
ORGANIZER;CN="Roger & Geralyn Flower":MAILTO:geralynflower@bridgewateraust.com
END:VEVENT
BEGIN:VEVENT
DTSTART;TZID=Australia/Sydney:20260710T100000
DTEND;TZID=Australia/Sydney:20260710T150000
DTSTAMP:20260421T062124
CREATED:20260416T000201Z
LAST-MODIFIED:20260416T000201Z
UID:84778-1783677600-1783695600@www.angusaustralia.com.au
SUMMARY:Clunie Range Angus 2026 Open Day
DESCRIPTION:
URL:https://www.angusaustralia.com.au/event/clunie-range-angus-2026-open-day
LOCATION:Clunie Range – Springfield\, 458 Coolatai Road\, Wallangra\, NSW\, 2360\, Australia
ORGANIZER;CN="Brett Clunie":MAILTO:brett.clunie@outlook.com
END:VEVENT
END:VCALENDAR