BEGIN:VCALENDAR
VERSION:2.0
PRODID:-//Angus Australia - ECPv6.15.17//NONSGML v1.0//EN
CALSCALE:GREGORIAN
METHOD:PUBLISH
X-WR-CALNAME:Angus Australia
X-ORIGINAL-URL:https://www.angusaustralia.com.au
X-WR-CALDESC:Events for Angus Australia
REFRESH-INTERVAL;VALUE=DURATION:PT1H
X-Robots-Tag:noindex
X-PUBLISHED-TTL:PT1H
BEGIN:VTIMEZONE
TZID:Australia/Sydney
BEGIN:STANDARD
TZOFFSETFROM:+1100
TZOFFSETTO:+1000
TZNAME:AEST
DTSTART:20190406T160000
END:STANDARD
BEGIN:DAYLIGHT
TZOFFSETFROM:+1000
TZOFFSETTO:+1100
TZNAME:AEDT
DTSTART:20191005T160000
END:DAYLIGHT
BEGIN:STANDARD
TZOFFSETFROM:+1100
TZOFFSETTO:+1000
TZNAME:AEST
DTSTART:20200404T160000
END:STANDARD
BEGIN:DAYLIGHT
TZOFFSETFROM:+1000
TZOFFSETTO:+1100
TZNAME:AEDT
DTSTART:20201003T160000
END:DAYLIGHT
BEGIN:STANDARD
TZOFFSETFROM:+1100
TZOFFSETTO:+1000
TZNAME:AEST
DTSTART:20210403T160000
END:STANDARD
BEGIN:DAYLIGHT
TZOFFSETFROM:+1000
TZOFFSETTO:+1100
TZNAME:AEDT
DTSTART:20211002T160000
END:DAYLIGHT
BEGIN:STANDARD
TZOFFSETFROM:+1100
TZOFFSETTO:+1000
TZNAME:AEST
DTSTART:20220402T160000
END:STANDARD
BEGIN:DAYLIGHT
TZOFFSETFROM:+1000
TZOFFSETTO:+1100
TZNAME:AEDT
DTSTART:20221001T160000
END:DAYLIGHT
END:VTIMEZONE
BEGIN:VTIMEZONE
TZID:Australia/Melbourne
BEGIN:STANDARD
TZOFFSETFROM:+1100
TZOFFSETTO:+1000
TZNAME:AEST
DTSTART:20200404T160000
END:STANDARD
BEGIN:DAYLIGHT
TZOFFSETFROM:+1000
TZOFFSETTO:+1100
TZNAME:AEDT
DTSTART:20201003T160000
END:DAYLIGHT
BEGIN:STANDARD
TZOFFSETFROM:+1100
TZOFFSETTO:+1000
TZNAME:AEST
DTSTART:20210403T160000
END:STANDARD
BEGIN:DAYLIGHT
TZOFFSETFROM:+1000
TZOFFSETTO:+1100
TZNAME:AEDT
DTSTART:20211002T160000
END:DAYLIGHT
BEGIN:STANDARD
TZOFFSETFROM:+1100
TZOFFSETTO:+1000
TZNAME:AEST
DTSTART:20220402T160000
END:STANDARD
BEGIN:DAYLIGHT
TZOFFSETFROM:+1000
TZOFFSETTO:+1100
TZNAME:AEDT
DTSTART:20221001T160000
END:DAYLIGHT
END:VTIMEZONE
BEGIN:VTIMEZONE
TZID:Australia/Perth
BEGIN:STANDARD
TZOFFSETFROM:+0800
TZOFFSETTO:+0800
TZNAME:AWST
DTSTART:20200101T000000
END:STANDARD
END:VTIMEZONE
BEGIN:VEVENT
DTSTART;VALUE=DATE:20201224
DTEND;VALUE=DATE:20210105
DTSTAMP:20260426T064634
CREATED:20201015T233046Z
LAST-MODIFIED:20201015T233046Z
UID:2969-1608768000-1609804799@www.angusaustralia.com.au
SUMMARY:Angus Australia Office Christmas & New Year Closure
DESCRIPTION:The Angus Australia office will be closed for Christmas and the New Year from 5pm Wednesday\, 23rd December 2020 and will reopen at 8.30am on Monday\, 4th January 2021. \nThe team at Angus Australia wish everyone a happy and safe Christmas and New Year!
URL:https://www.angusaustralia.com.au/event/angus-australia-office-christmas-new-year-closure
END:VEVENT
BEGIN:VEVENT
DTSTART;VALUE=DATE:20210128
DTEND;VALUE=DATE:20210129
DTSTAMP:20260426T064634
CREATED:20201016T001246Z
LAST-MODIFIED:20201026T002436Z
UID:2971-1611792000-1611878399@www.angusaustralia.com.au
SUMMARY:Weeran Beef Week Bull Inspection Day
DESCRIPTION:   
URL:https://www.angusaustralia.com.au/event/weeran-beef-week-bull-inspection-day
LOCATION:Weerangourt\, 5395 Hamilton Pt Fairy Road\, Byaduk\, VIC\, 3301\, Australia
ORGANIZER;CN="Alec & Jo Moore":MAILTO:weeran@bigpond.com
END:VEVENT
BEGIN:VEVENT
DTSTART;TZID=Australia/Sydney:20210128T090000
DTEND;TZID=Australia/Sydney:20210128T170000
DTSTAMP:20260426T064634
CREATED:20201103T221840Z
LAST-MODIFIED:20201103T221840Z
UID:3885-1611824400-1611853200@www.angusaustralia.com.au
SUMMARY:Murdeduke Angus Beef Week 2021 Day 2
DESCRIPTION: 
URL:https://www.angusaustralia.com.au/event/murdeduke-angus-beef-week-2021-day-2
LOCATION:North Skene\, 399 Forts Rd\, Hamilton\, VIC\, 3301\, Australia
ORGANIZER;CN="Simon Falkiner":MAILTO:falkiner.ag@bigpond.com
END:VEVENT
BEGIN:VEVENT
DTSTART;TZID=Australia/Melbourne:20210129T090000
DTEND;TZID=Australia/Melbourne:20210129T170000
DTSTAMP:20260426T064634
CREATED:20201016T014441Z
LAST-MODIFIED:20220728T020125Z
UID:3009-1611910800-1611939600@www.angusaustralia.com.au
SUMMARY:Te Mania Angus Autumn Bull Sale Preview
DESCRIPTION:       
URL:https://www.angusaustralia.com.au/event/te-mania-angus-autumn-bull-sale-preview
LOCATION:Te Mania\, Reichmans Lane\, MORTLAKE\, VIC\, 3272\, Australia
ORGANIZER;CN="Hamish McFarlane":MAILTO:hamish@temania.com.au
END:VEVENT
BEGIN:VEVENT
DTSTART;TZID=Australia/Melbourne:20210129T090000
DTEND;TZID=Australia/Melbourne:20210129T170000
DTSTAMP:20260426T064634
CREATED:20201103T222642Z
LAST-MODIFIED:20201103T222642Z
UID:3889-1611910800-1611939600@www.angusaustralia.com.au
SUMMARY:Murdeduke Angus Beef Week 2021 Day 3
DESCRIPTION: 
URL:https://www.angusaustralia.com.au/event/murdeduke-angus-beef-week-2021-day-3
LOCATION:Murdeduke\, 730 Cressy Rd\, Winchelsea\, VIC\, 3241\, Australia
ORGANIZER;CN="Simon Falkiner":MAILTO:falkiner.ag@bigpond.com
END:VEVENT
BEGIN:VEVENT
DTSTART;TZID=Australia/Perth:20210129T110000
DTEND;TZID=Australia/Perth:20210129T110000
DTSTAMP:20260426T064634
CREATED:20210107T010001Z
LAST-MODIFIED:20210107T013159Z
UID:5313-1611918000-1611918000@www.angusaustralia.com.au
SUMMARY:Lawsons Joanna Plains Bull Sale
DESCRIPTION:52 bulls on offer \n     
URL:https://www.angusaustralia.com.au/event/lawsons-joanna-plains-bull-sale
LOCATION:Joanna Plains\, Cataby\, WA\, 6507\, Australia
ORGANIZER;CN="Harry Lawson":MAILTO:lawsons@lawsonsangus.com.au
END:VEVENT
END:VCALENDAR