BEGIN:VCALENDAR
VERSION:2.0
PRODID:-//Angus Australia - ECPv6.15.17//NONSGML v1.0//EN
CALSCALE:GREGORIAN
METHOD:PUBLISH
X-WR-CALNAME:Angus Australia
X-ORIGINAL-URL:https://www.angusaustralia.com.au
X-WR-CALDESC:Events for Angus Australia
REFRESH-INTERVAL;VALUE=DURATION:PT1H
X-Robots-Tag:noindex
X-PUBLISHED-TTL:PT1H
BEGIN:VTIMEZONE
TZID:Australia/Melbourne
BEGIN:STANDARD
TZOFFSETFROM:+1100
TZOFFSETTO:+1000
TZNAME:AEST
DTSTART:20230401T160000
END:STANDARD
BEGIN:DAYLIGHT
TZOFFSETFROM:+1000
TZOFFSETTO:+1100
TZNAME:AEDT
DTSTART:20230930T160000
END:DAYLIGHT
BEGIN:STANDARD
TZOFFSETFROM:+1100
TZOFFSETTO:+1000
TZNAME:AEST
DTSTART:20240406T160000
END:STANDARD
BEGIN:DAYLIGHT
TZOFFSETFROM:+1000
TZOFFSETTO:+1100
TZNAME:AEDT
DTSTART:20241005T160000
END:DAYLIGHT
BEGIN:STANDARD
TZOFFSETFROM:+1100
TZOFFSETTO:+1000
TZNAME:AEST
DTSTART:20250405T160000
END:STANDARD
BEGIN:DAYLIGHT
TZOFFSETFROM:+1000
TZOFFSETTO:+1100
TZNAME:AEDT
DTSTART:20251004T160000
END:DAYLIGHT
END:VTIMEZONE
BEGIN:VTIMEZONE
TZID:Australia/Sydney
BEGIN:STANDARD
TZOFFSETFROM:+1100
TZOFFSETTO:+1000
TZNAME:AEST
DTSTART:20230401T160000
END:STANDARD
BEGIN:DAYLIGHT
TZOFFSETFROM:+1000
TZOFFSETTO:+1100
TZNAME:AEDT
DTSTART:20230930T160000
END:DAYLIGHT
BEGIN:STANDARD
TZOFFSETFROM:+1100
TZOFFSETTO:+1000
TZNAME:AEST
DTSTART:20240406T160000
END:STANDARD
BEGIN:DAYLIGHT
TZOFFSETFROM:+1000
TZOFFSETTO:+1100
TZNAME:AEDT
DTSTART:20241005T160000
END:DAYLIGHT
BEGIN:STANDARD
TZOFFSETFROM:+1100
TZOFFSETTO:+1000
TZNAME:AEST
DTSTART:20250405T160000
END:STANDARD
BEGIN:DAYLIGHT
TZOFFSETFROM:+1000
TZOFFSETTO:+1100
TZNAME:AEDT
DTSTART:20251004T160000
END:DAYLIGHT
END:VTIMEZONE
BEGIN:VTIMEZONE
TZID:Australia/Brisbane
BEGIN:STANDARD
TZOFFSETFROM:+1000
TZOFFSETTO:+1000
TZNAME:AEST
DTSTART:20230101T000000
END:STANDARD
END:VTIMEZONE
BEGIN:VTIMEZONE
TZID:Australia/Perth
BEGIN:STANDARD
TZOFFSETFROM:+0800
TZOFFSETTO:+0800
TZNAME:AWST
DTSTART:20230101T000000
END:STANDARD
END:VTIMEZONE
BEGIN:VEVENT
DTSTART;TZID=Australia/Melbourne:20241114T083000
DTEND;TZID=Australia/Melbourne:20241114T130000
DTSTAMP:20260424T141235
CREATED:20241030T055634Z
LAST-MODIFIED:20241030T055634Z
UID:74733-1731573000-1731589200@www.angusaustralia.com.au
SUMMARY:2024 Genetics & Service Providers Workshop 
DESCRIPTION:FOR MORE INFORMATION AND TO RSVP CLICK HERE
URL:https://www.angusaustralia.com.au/event/2024-genetics-service-providers-workshop
ORGANIZER;CN="Nancy Crawshaw":MAILTO:nancy.crawshaw@angusaustralia.com.au
END:VEVENT
BEGIN:VEVENT
DTSTART;TZID=Australia/Sydney:20241115T090000
DTEND;TZID=Australia/Sydney:20241115T170000
DTSTAMP:20260424T141235
CREATED:20241021T001625Z
LAST-MODIFIED:20241021T004115Z
UID:74470-1731661200-1731690000@www.angusaustralia.com.au
SUMMARY:Little Meadows "Who's Who of the U's" Female Sale 2024
DESCRIPTION:
URL:https://www.angusaustralia.com.au/event/little-meadows-whos-who-of-the-us-female-sale-2024
LOCATION:Shanahan’s Livestock Depot\, 787 Barnawartha-Howlong Road\, Barnawartha\, VIC\, 3688
ORGANIZER;CN="Tony Golding":MAILTO:littlemeadows6@bigpond.com
END:VEVENT
BEGIN:VEVENT
DTSTART;TZID=Australia/Brisbane:20241117T110000
DTEND;TZID=Australia/Brisbane:20241117T110000
DTSTAMP:20260424T141235
CREATED:20241029T013017Z
LAST-MODIFIED:20241029T013039Z
UID:74610-1731841200-1731841200@www.angusaustralia.com.au
SUMMARY:Queensland Angus Affiliated Group Notice of Meeting – Nov 24
DESCRIPTION:
URL:https://www.angusaustralia.com.au/event/queensland-angus-affiliated-group-notice-of-meeting-nov-24
LOCATION:Dalby\, 710 Mt Pleasant Road\, Dalby\, QLD\, 4405\, Australia
ORGANIZER;CN="Jackie Tout":MAILTO:touties2@bigpond.com
END:VEVENT
BEGIN:VEVENT
DTSTART;TZID=Australia/Perth:20241121T113000
DTEND;TZID=Australia/Perth:20241121T113000
DTSTAMP:20260424T141235
CREATED:20241018T004458Z
LAST-MODIFIED:20251001T041114Z
UID:74455-1732188600-1732188600@www.angusaustralia.com.au
SUMMARY:Gandy Angus Annual November Bull Sale 2024
DESCRIPTION:
URL:https://www.angusaustralia.com.au/event/gandy-angus-annual-november-bull-sale-2024
LOCATION:Boyanup Saleyards\, 31 Salter Rd\, Boyanup\, WA\, 6237\, Australia
ORGANIZER;CN="Kim & Lex Gandy":MAILTO:kim@diamondtree.com.au
END:VEVENT
BEGIN:VEVENT
DTSTART;TZID=Australia/Sydney:20241127T090000
DTEND;TZID=Australia/Sydney:20241127T163000
DTSTAMP:20260424T141235
CREATED:20241008T025837Z
LAST-MODIFIED:20241008T025837Z
UID:74109-1732698000-1732725000@www.angusaustralia.com.au
SUMMARY:2024 Efficient Beef Open Day
DESCRIPTION:Providing producers and industry representatives with the opportunity to keep up to date with the latest in research and development coming out of a number of ongoing research projects\, the Efficient Beef Open Day will be hosted Wednesday November 27th at the JP Belshaw Lecture Theatre\, University of New England.    \nThe 2024 Efficient Beef Open Day will be hosted in conjunction with the University of New England (UNE) and the New South Wales Department of Primary Industries (NSW DPI) and will feature research updates covering mature cow efficiency\, methane challenges and opportunities and insights into the Southern Multibreed analysis. After the presentations there will be provided lunch and the opportunity to see the UNE Tullimba research feedlot\, where members and stakeholders are able to inspect the Angus Sire Benchmarking Program Cohort 13 and Southern Multibreed steers.   \nRegistration and dietary requirements are essential.   \nPlease register by Friday\, November 1\, 2024.  \nCLICK HERE TO REGISTER
URL:https://www.angusaustralia.com.au/event/2024-efficient-beef-field-day-event
LOCATION:JP Belshaw Lecture Theatre\, Building W040\, University of New England\, Madgwick Drive\, Armidale\, New South Wales\, 2350\, Australia
ORGANIZER;CN="Hanlie Jansen":MAILTO:hanlie.jansen@angusaustralia.com.au
END:VEVENT
BEGIN:VEVENT
DTSTART;VALUE=DATE:20241130
DTEND;VALUE=DATE:20241201
DTSTAMP:20260424T141235
CREATED:20241101T014818Z
LAST-MODIFIED:20241101T043108Z
UID:74740-1732924800-1733011199@www.angusaustralia.com.au
SUMMARY:Riddellvue Spring Female Reduction Sale 2024
DESCRIPTION:
URL:https://www.angusaustralia.com.au/event/riddellvue-spring-female-reduction-sale-2024
LOCATION:153 Markwood-Tarrawingee Road Markwood 3678\, 153 Markwood-Tarrawingee\, Road Markwood 3678\, VIC\, 3678\, Australia
ORGANIZER;CN="Ian Bates":MAILTO:ian@riddellvue.com.au
END:VEVENT
END:VCALENDAR