BEGIN:VCALENDAR
VERSION:2.0
PRODID:-//Angus Australia - ECPv6.15.17//NONSGML v1.0//EN
CALSCALE:GREGORIAN
METHOD:PUBLISH
X-WR-CALNAME:Angus Australia
X-ORIGINAL-URL:https://www.angusaustralia.com.au
X-WR-CALDESC:Events for Angus Australia
REFRESH-INTERVAL;VALUE=DURATION:PT1H
X-Robots-Tag:noindex
X-PUBLISHED-TTL:PT1H
BEGIN:VTIMEZONE
TZID:Australia/Sydney
BEGIN:STANDARD
TZOFFSETFROM:+1100
TZOFFSETTO:+1000
TZNAME:AEST
DTSTART:20230401T160000
END:STANDARD
BEGIN:DAYLIGHT
TZOFFSETFROM:+1000
TZOFFSETTO:+1100
TZNAME:AEDT
DTSTART:20230930T160000
END:DAYLIGHT
BEGIN:STANDARD
TZOFFSETFROM:+1100
TZOFFSETTO:+1000
TZNAME:AEST
DTSTART:20240406T160000
END:STANDARD
BEGIN:DAYLIGHT
TZOFFSETFROM:+1000
TZOFFSETTO:+1100
TZNAME:AEDT
DTSTART:20241005T160000
END:DAYLIGHT
BEGIN:STANDARD
TZOFFSETFROM:+1100
TZOFFSETTO:+1000
TZNAME:AEST
DTSTART:20250405T160000
END:STANDARD
BEGIN:DAYLIGHT
TZOFFSETFROM:+1000
TZOFFSETTO:+1100
TZNAME:AEDT
DTSTART:20251004T160000
END:DAYLIGHT
BEGIN:STANDARD
TZOFFSETFROM:+1100
TZOFFSETTO:+1000
TZNAME:AEST
DTSTART:20260404T160000
END:STANDARD
BEGIN:DAYLIGHT
TZOFFSETFROM:+1000
TZOFFSETTO:+1100
TZNAME:AEDT
DTSTART:20261003T160000
END:DAYLIGHT
END:VTIMEZONE
BEGIN:VEVENT
DTSTART;TZID=Australia/Sydney:20241206T180000
DTEND;TZID=Australia/Sydney:20241206T180000
DTSTAMP:20260424T141243
CREATED:20241120T041513Z
LAST-MODIFIED:20241120T041513Z
UID:75053-1733508000-1733508000@www.angusaustralia.com.au
SUMMARY:E.J. Angus Complete Stud Dispersal
DESCRIPTION:To view online sale listing CLICK HERE
URL:https://www.angusaustralia.com.au/event/e-j-angus-complete-stud-dispersal
LOCATION:Online\, AuctionsPlus
ORGANIZER;CN="Carol Grylls":MAILTO:gryllsejangus@outlook.com
END:VEVENT
BEGIN:VEVENT
DTSTART;VALUE=DATE:20241223
DTEND;VALUE=DATE:20241224
DTSTAMP:20260424T141243
CREATED:20241211T011311Z
LAST-MODIFIED:20241211T011311Z
UID:75582-1734912000-1734998399@www.angusaustralia.com.au
SUMMARY:Mid January TACE Submission Deadline - Animal Registrations & Structural Scores
DESCRIPTION:All submissions must be received by Angus Australia before 5pm on the submission deadline for guaranteed inclusion in the analysis.
URL:https://www.angusaustralia.com.au/event/mid-january-tace-submission-deadline-animal-registrations-structural-scores
END:VEVENT
BEGIN:VEVENT
DTSTART;TZID=Australia/Sydney:20241224T170000
DTEND;TZID=Australia/Sydney:20250102T083000
DTSTAMP:20260424T141243
CREATED:20241202T000015Z
LAST-MODIFIED:20241202T214633Z
UID:75382-1735059600-1735806600@www.angusaustralia.com.au
SUMMARY:Angus Australia Office Christmas Closures 2024
DESCRIPTION:Angus Australia would like to remind members that the office will close 5pm Tuesday 24th December and reopen 8.30am on Thursday 2nd January 2025 for the holiday season. \nPlease be aware of the following office closures: \nTuesday\,  24th December – Office will close at 5.00pm \nWednesday\, 25th December – Closed \nThursday\, 26th December – Closed \nFriday\, 27th December – Closed \nMonday\, 30th December – Closed \nTuesday\, 31st December – Closed \nWednesday\, 1st January – Closed \nThursday\, 2nd January – Office reopens at 8.30am \nThe team at Angus Australia wish everyone a happy and safe Christmas and New Year!
URL:https://www.angusaustralia.com.au/event/angus-australia-office-christmas-closures-2024
LOCATION:Angus Australia\, 86 Glen Innes Road\, Armdiale\, NSW\, 2350\, Australia
END:VEVENT
END:VCALENDAR