BEGIN:VCALENDAR
VERSION:2.0
PRODID:-//Angus Australia - ECPv6.15.17//NONSGML v1.0//EN
CALSCALE:GREGORIAN
METHOD:PUBLISH
X-ORIGINAL-URL:https://www.angusaustralia.com.au
X-WR-CALDESC:Events for Angus Australia
REFRESH-INTERVAL;VALUE=DURATION:PT1H
X-Robots-Tag:noindex
X-PUBLISHED-TTL:PT1H
BEGIN:VTIMEZONE
TZID:Australia/Sydney
BEGIN:STANDARD
TZOFFSETFROM:+1100
TZOFFSETTO:+1000
TZNAME:AEST
DTSTART:20240406T160000
END:STANDARD
BEGIN:DAYLIGHT
TZOFFSETFROM:+1000
TZOFFSETTO:+1100
TZNAME:AEDT
DTSTART:20241005T160000
END:DAYLIGHT
BEGIN:STANDARD
TZOFFSETFROM:+1100
TZOFFSETTO:+1000
TZNAME:AEST
DTSTART:20250405T160000
END:STANDARD
BEGIN:DAYLIGHT
TZOFFSETFROM:+1000
TZOFFSETTO:+1100
TZNAME:AEDT
DTSTART:20251004T160000
END:DAYLIGHT
BEGIN:STANDARD
TZOFFSETFROM:+1100
TZOFFSETTO:+1000
TZNAME:AEST
DTSTART:20260404T160000
END:STANDARD
BEGIN:DAYLIGHT
TZOFFSETFROM:+1000
TZOFFSETTO:+1100
TZNAME:AEDT
DTSTART:20261003T160000
END:DAYLIGHT
END:VTIMEZONE
BEGIN:VTIMEZONE
TZID:Australia/Brisbane
BEGIN:STANDARD
TZOFFSETFROM:+1000
TZOFFSETTO:+1000
TZNAME:AEST
DTSTART:20240101T000000
END:STANDARD
END:VTIMEZONE
BEGIN:VTIMEZONE
TZID:Pacific/Auckland
BEGIN:STANDARD
TZOFFSETFROM:+1300
TZOFFSETTO:+1200
TZNAME:NZST
DTSTART:20240406T140000
END:STANDARD
BEGIN:DAYLIGHT
TZOFFSETFROM:+1200
TZOFFSETTO:+1300
TZNAME:NZDT
DTSTART:20240928T140000
END:DAYLIGHT
BEGIN:STANDARD
TZOFFSETFROM:+1300
TZOFFSETTO:+1200
TZNAME:NZST
DTSTART:20250405T140000
END:STANDARD
BEGIN:DAYLIGHT
TZOFFSETFROM:+1200
TZOFFSETTO:+1300
TZNAME:NZDT
DTSTART:20250927T140000
END:DAYLIGHT
BEGIN:STANDARD
TZOFFSETFROM:+1300
TZOFFSETTO:+1200
TZNAME:NZST
DTSTART:20260404T140000
END:STANDARD
BEGIN:DAYLIGHT
TZOFFSETFROM:+1200
TZOFFSETTO:+1300
TZNAME:NZDT
DTSTART:20260926T140000
END:DAYLIGHT
END:VTIMEZONE
BEGIN:VEVENT
DTSTART;VALUE=DATE:20251002
DTEND;VALUE=DATE:20251004
DTSTAMP:20260425T234241
CREATED:20250728T045835Z
LAST-MODIFIED:20250729T041916Z
UID:79891-1759363200-1759535999@www.angusaustralia.com.au
SUMMARY:SA Cattle Assessment Course
DESCRIPTION:FOR MORE INFORMATION CLICK HERE
URL:https://www.angusaustralia.com.au/event/sa-cattle-assessment-course
LOCATION:University of Adelaide\, Roseworthy Campus\, Mudla Wirra Rd\, Roseworthy\, SA\, 5371\, Australia
ORGANIZER;CN="Jake Phillips":MAILTO:jake.phillips@angusaustralia.com.au
END:VEVENT
BEGIN:VEVENT
DTSTART;TZID=Australia/Sydney:20251002T130000
DTEND;TZID=Australia/Sydney:20251002T130000
DTSTAMP:20260425T234241
CREATED:20250922T030346Z
LAST-MODIFIED:20250922T030346Z
UID:81449-1759410000-1759410000@www.angusaustralia.com.au
SUMMARY:Francs Angus Helmsman Spring Bull Sale 2025
DESCRIPTION:Gates 11am\, sale begins at 1pm \nClick here for online sale listing \nClick here for AuctionsPlus
URL:https://www.angusaustralia.com.au/event/francs-angus-helmsman-spring-bull-sale-2025
LOCATION:AuctionsPlus
ORGANIZER;CN="Nick Franc":MAILTO:nickfranc1@hotmail.com
END:VEVENT
BEGIN:VEVENT
DTSTART;TZID=Australia/Sydney:20251003T130000
DTEND;TZID=Australia/Sydney:20251003T130000
DTSTAMP:20260425T234241
CREATED:20250811T051103Z
LAST-MODIFIED:20250811T051112Z
UID:80627-1759496400-1759496400@www.angusaustralia.com.au
SUMMARY:Riga Angus Online Only Spring Bull Sale 2025
DESCRIPTION:
URL:https://www.angusaustralia.com.au/event/riga-angus-online-only-spring-bull-sale-2025
LOCATION:AuctionsPlus
ATTACH;FMTTYPE=image/jpeg:https://www.angusaustralia.com.au/content/uploads/2020/10/VKR-Riga-Angus.jpg
ORGANIZER;CN="Vera Finger":MAILTO:info@rigaangus.com.au
END:VEVENT
BEGIN:VEVENT
DTSTART;VALUE=DATE:20251009
DTEND;VALUE=DATE:20251010
DTSTAMP:20260425T234241
CREATED:20241211T040854Z
LAST-MODIFIED:20241211T040854Z
UID:75663-1759968000-1760054399@www.angusaustralia.com.au
SUMMARY:November TACE Submission Deadline - Animal Registration & Structural Scores
DESCRIPTION:All submissions must be received by Angus Australia before 5pm on the submission deadline for guaranteed inclusion in the analysis.
URL:https://www.angusaustralia.com.au/event/november-tace-submission-deadline-animal-registration-structural-scores
END:VEVENT
BEGIN:VEVENT
DTSTART;TZID=Australia/Sydney:20251010T130000
DTEND;TZID=Australia/Sydney:20251010T130000
DTSTAMP:20260425T234241
CREATED:20250922T053159Z
LAST-MODIFIED:20250930T005534Z
UID:81455-1760101200-1760101200@www.angusaustralia.com.au
SUMMARY:Jarobee Angus Helmsman Spring Sale 2025
DESCRIPTION:Click here to see online sale listing \nClick here to see sale cataogue PDF \nClick here to see sale lot video playlist
URL:https://www.angusaustralia.com.au/event/jarobee-angus-helmsman-spring-sale-2025
LOCATION:Jarobee Sale Complex Beechworth Victoria\, VIC\, Australia
ORGANIZER;CN="Alan & Jan Robinson":MAILTO:jarobee@bigpond.com
END:VEVENT
BEGIN:VEVENT
DTSTART;VALUE=DATE:20251013
DTEND;VALUE=DATE:20251017
DTSTAMP:20260425T234241
CREATED:20250730T002043Z
LAST-MODIFIED:20250730T002043Z
UID:79957-1760313600-1760659199@www.angusaustralia.com.au
SUMMARY:Queensland Production Tour
DESCRIPTION:CLICK HERE FOR MORE INFORMATION
URL:https://www.angusaustralia.com.au/event/queensland-production-tour
ORGANIZER;CN="Nancy Crawshaw":MAILTO:nancy.crawshaw@angusaustralia.com.au
END:VEVENT
BEGIN:VEVENT
DTSTART;VALUE=DATE:20251014
DTEND;VALUE=DATE:20251015
DTSTAMP:20260425T234241
CREATED:20241211T041008Z
LAST-MODIFIED:20241211T041008Z
UID:75665-1760400000-1760486399@www.angusaustralia.com.au
SUMMARY:November TACE Submission Deadline - Performance Data
DESCRIPTION:All submissions must be received by Angus Australia before 5pm on the submission deadline for guaranteed inclusion in the analysis.
URL:https://www.angusaustralia.com.au/event/november-tace-submission-deadline-performance-data
END:VEVENT
BEGIN:VEVENT
DTSTART;TZID=Australia/Sydney:20251015T130000
DTEND;TZID=Australia/Sydney:20251015T130000
DTSTAMP:20260425T234241
CREATED:20250825T235047Z
LAST-MODIFIED:20250825T235102Z
UID:80869-1760533200-1760533200@www.angusaustralia.com.au
SUMMARY:Te Mania NZ Yearling Bull Sale
DESCRIPTION:Click here to view catalogue- CLICK HERE
URL:https://www.angusaustralia.com.au/event/te-mania-nz-yearling-bull-sale
LOCATION:On Property\, ‘Te Mania’\, 290 Conway Flat Road\, RD 4\, PARNASSUS\, NZ
ORGANIZER;CN="Will Wilding":MAILTO:will@temania.co.nz
END:VEVENT
BEGIN:VEVENT
DTSTART;TZID=Australia/Sydney:20251017T130000
DTEND;TZID=Australia/Sydney:20251017T130000
DTSTAMP:20260425T234241
CREATED:20250120T032808Z
LAST-MODIFIED:20250901T015559Z
UID:76404-1760706000-1760706000@www.angusaustralia.com.au
SUMMARY:Talooby Angus Production Sale 2025 #2
DESCRIPTION:Inspections welcome from 10:00am
URL:https://www.angusaustralia.com.au/event/talooby-angus-production-sale-2025-2
LOCATION:Talooby\, 5783 Bylong Valley Way\, Rylstone\, NSW\, 2849\, Australia
END:VEVENT
BEGIN:VEVENT
DTSTART;TZID=Pacific/Auckland:20251017T130000
DTEND;TZID=Pacific/Auckland:20251017T130000
DTSTAMP:20260425T234241
CREATED:20250218T040523Z
LAST-MODIFIED:20250828T031609Z
UID:77118-1760706000-1760706000@www.angusaustralia.com.au
SUMMARY:Mount Linton Station 2025 'Yearling' Bull Sale
DESCRIPTION:Sale location Hybrid: Mount Linton Station\, 309 Mount Linton Road\, Otautau. NZ. & Bidr
URL:https://www.angusaustralia.com.au/event/mount-linton-station-2025-yearling-bull-sale
LOCATION:Mount Linton Station\, 309 Mount Linton Road RD1\, Otautau\, New Zealand
END:VEVENT
BEGIN:VEVENT
DTSTART;TZID=Australia/Sydney:20251019T090000
DTEND;TZID=Australia/Sydney:20251019T090000
DTSTAMP:20260425T234241
CREATED:20251002T011444Z
LAST-MODIFIED:20251002T021649Z
UID:81783-1760864400-1760864400@www.angusaustralia.com.au
SUMMARY:Bluestone Angus Bull Viewing Day 2025
DESCRIPTION:Online Sale – Auctions Plus Friday October 24 @ 8:00 am\nClick here for online sale listing\n 
URL:https://www.angusaustralia.com.au/event/bluestone-angus-bull-viewing-day-2025
LOCATION:Bluestone Angus\, 441 Hamilton Road\, New Gisborne\, Victoria\,3438
ORGANIZER;CN="Viv Wall":MAILTO:pvsm10@bigpond.com
END:VEVENT
BEGIN:VEVENT
DTSTART;VALUE=DATE:20251023
DTEND;VALUE=DATE:20251024
DTSTAMP:20260425T234241
CREATED:20241211T041125Z
LAST-MODIFIED:20241211T041125Z
UID:75668-1761177600-1761263999@www.angusaustralia.com.au
SUMMARY:Mid November TACE Submission Deadline - Animal Registration & Structural Scores
DESCRIPTION:All submissions must be received by Angus Australia before 5pm on the submission deadline for guaranteed inclusion in the analysis.
URL:https://www.angusaustralia.com.au/event/mid-november-tace-submission-deadline-animal-registration-structural-scores
END:VEVENT
BEGIN:VEVENT
DTSTART;TZID=Australia/Sydney:20251024T080000
DTEND;TZID=Australia/Sydney:20251024T080000
DTSTAMP:20260425T234241
CREATED:20251001T070725Z
LAST-MODIFIED:20251002T013756Z
UID:81778-1761292800-1761292800@www.angusaustralia.com.au
SUMMARY:Bluestone Angus Online Spring Bull Sale 2025
DESCRIPTION:Online – Auctions Plus\nClick here for online sale listing\n \nBull viewing day – Sunday 19 October.\nOn property at Bluestone Angus Stud\, 441 Hamilton Road\, Nee Gisborne\, Victoria\, 3438.
URL:https://www.angusaustralia.com.au/event/bluestone-angus-online-spring-bull-sale-2025
LOCATION:AuctionsPlus
ORGANIZER;CN="Viv Wall":MAILTO:pvsm10@bigpond.com
END:VEVENT
BEGIN:VEVENT
DTSTART;VALUE=DATE:20251028
DTEND;VALUE=DATE:20251029
DTSTAMP:20260425T234241
CREATED:20241211T041221Z
LAST-MODIFIED:20241211T041221Z
UID:75670-1761609600-1761695999@www.angusaustralia.com.au
SUMMARY:Mid November TACE Submission Deadline - Performance Data
DESCRIPTION:All submissions must be received by Angus Australia before 5pm on the submission deadline for guaranteed inclusion in the analysis.
URL:https://www.angusaustralia.com.au/event/mid-november-tace-submission-deadline-performance-data
END:VEVENT
BEGIN:VEVENT
DTSTART;TZID=Australia/Sydney:20251028T100000
DTEND;TZID=Australia/Sydney:20251028T100000
DTSTAMP:20260425T234241
CREATED:20250924T040117Z
LAST-MODIFIED:20250924T040117Z
UID:81558-1761645600-1761645600@www.angusaustralia.com.au
SUMMARY:Carabar Angus Blackall Sale 2025
DESCRIPTION:Click here to view online sale listing 
URL:https://www.angusaustralia.com.au/event/carabar-angus-blackall-sale-2025
LOCATION:Blackall Saleyards
ORGANIZER;CN="Darren Hegarty":MAILTO:carabarangus1@bigpond.com
END:VEVENT
END:VCALENDAR